BEGIN:VCALENDAR
VERSION:2.0
PRODID:-//ChamberMaster//Event Calendar 2.0//EN
METHOD:PUBLISH
X-PUBLISHED-TTL:P3D
REFRESH-INTERVAL:P3D
CALSCALE:GREGORIAN
BEGIN:VEVENT
DTSTART:20191002T230000Z
DTEND:20191003T003000Z
X-MICROSOFT-CDO-ALLDAYEVENT:FALSE
SUMMARY:Behavioral Finance: My Brain Made Me Do It
DESCRIPTION:Behavioral Finance: My Brain Made Me Do It\n\nProduct Partner: Ryan Curry of John Hancock
X-ALT-DESC;FMTTYPE=text/html:Behavioral Finance: My Brain Made Me Do It<br />\nProduct Partner: Ryan Curry of John Hancock
LOCATION:Edward Jones 2197 Silver Lake Road NW New Brighton\, MN 55112
UID:e.380.188454
SEQUENCE:3
DTSTAMP:20260419T193354Z
URL:http://members.metronorthchamber.org/events/details/behavioral-finance-my-brain-made-me-do-it-188454
END:VEVENT

END:VCALENDAR
