BEGIN:VCALENDAR
VERSION:2.0
PRODID:-//ChamberMaster//Event Calendar 2.0//EN
METHOD:PUBLISH
X-PUBLISHED-TTL:P3D
REFRESH-INTERVAL:P3D
CALSCALE:GREGORIAN
BEGIN:VEVENT
DTSTART:20160409T200000Z
DTEND:20160409T230000Z
X-MICROSOFT-CDO-ALLDAYEVENT:FALSE
SUMMARY:Beerfest
DESCRIPTION:A celebration of the one of the greatest beverages humans have wrought. Sample over 50 craft and microbrews. Admission includes a souvenir glass\, $10 gaming voucher\, and the chance to win prizes.
X-ALT-DESC;FMTTYPE=text/html:<span style="color:rgb(125\, 125\, 125)\; font-family:helvetica\,arial\,sans-serif\; font-size:17px">A celebration of the one of the greatest beverages humans have wrought. Sample over 50 craft and microbrews. Admission includes a souvenir glass\, $10 gaming voucher\, and the chance to win prizes.</span>
LOCATION:Running Aces Casino & Racetrack 15201 Zurich Street NE Columbus\, MN 55025-7908
UID:e.380.163807
SEQUENCE:3
DTSTAMP:20260422T145524Z
URL:http://members.metronorthchamber.org/events/details/beerfest-04-09-2016-163807
END:VEVENT

END:VCALENDAR
