BEGIN:VCALENDAR
VERSION:2.0
PRODID:-//ChamberMaster//Event Calendar 2.0//EN
METHOD:PUBLISH
X-PUBLISHED-TTL:P3D
REFRESH-INTERVAL:P3D
CALSCALE:GREGORIAN
BEGIN:VEVENT
DTSTART:20120224T010000Z
DTEND:20120224T030000Z
X-MICROSOFT-CDO-ALLDAYEVENT:FALSE
SUMMARY:Beer Seminar
DESCRIPTION:Sample and learn about:\n\n	\n\n	Deschutes Brewery Black Butte Porter\n\n	Deschutes Brewery Miiror Pond IPA\n\n	Brooklyn Brown\n\n	Brooklyn Lager\n\n	Magic Hat #9\n\n	Brau Brothers Scotch Ale\n\n	Dark Horse Black Bier\n\n	\n\n	In addition\, if you place a product order at the seminar\, you will get special pricing!
X-ALT-DESC;FMTTYPE=text/html:<p style="text-align: center">\n	<span style="font-size: 12px"><strong><span style="color: #8b4513">Sample and learn about:</span></strong></span><br />\n	<br />\n	<span style="color: #8b4513"><strong>Deschutes Brewery Black Butte Porter<br />\n	Deschutes Brewery Miiror Pond IPA<br />\n	Brooklyn Brown<br />\n	Brooklyn Lager<br />\n	Magic Hat #9<br />\n	Brau Brothers Scotch Ale<br />\n	Dark Horse Black Bier<br />\n	<br />\n	In addition\, if you place a product order at the seminar\, you will get special pricing!</strong></span></p>\n
LOCATION:Broadway Pizza 8298 University Avenue Fridley\, MN
UID:e.380.143468
SEQUENCE:3
DTSTAMP:20260425T225236Z
URL:http://members.metronorthchamber.org/events/details/beer-seminar-02-23-2012-143468
END:VEVENT

END:VCALENDAR
