BEGIN:VCALENDAR
VERSION:2.0
PRODID:-//ChamberMaster//Event Calendar 2.0//EN
METHOD:PUBLISH
X-PUBLISHED-TTL:P3D
REFRESH-INTERVAL:P3D
CALSCALE:GREGORIAN
BEGIN:VEVENT
DTSTART:20180331T200000Z
DTEND:20180331T230000Z
X-MICROSOFT-CDO-ALLDAYEVENT:FALSE
SUMMARY:Beer Fest
DESCRIPTION:Sample Local and National Craft Brews. Receive a gaming voucher\, souvenir tasting glass & much more!
X-ALT-DESC;FMTTYPE=text/html:Sample Local and National Craft Brews. Receive a gaming voucher\,&nbsp\;souvenir tasting glass &amp\; much more!
LOCATION:Running Aces Casino & Racetrack
UID:e.380.180244
SEQUENCE:3
DTSTAMP:20260421T003154Z
URL:http://members.metronorthchamber.org/events/details/beer-fest-03-31-2018-180244
END:VEVENT

END:VCALENDAR
