BEGIN:VCALENDAR
VERSION:2.0
PRODID:-//ChamberMaster//Event Calendar 2.0//EN
METHOD:PUBLISH
X-PUBLISHED-TTL:P3D
REFRESH-INTERVAL:P3D
CALSCALE:GREGORIAN
BEGIN:VEVENT
DTSTART:20140816T200000Z
DTEND:20140817T045500Z
X-MICROSOFT-CDO-ALLDAYEVENT:FALSE
SUMMARY:Beer\, Burgers\, Band and Bags...
DESCRIPTION:Beer\, Burgers\, Band and Bags...\n\n\n\n9th Anniversary Party from 3pm-close!\n\n\n\n\n\nBeer flows and Build your own burger bar from 3-5pm\,\n\nBand starts at 7pm and all only for $10!\n\n\n\n\n\nBean bag tourney will start at 5pm\, $10 per\, 100% payout\,\n\nL.O.D. and double elimination.
X-ALT-DESC;FMTTYPE=text/html:<div style="text-align: center\;">&nbsp\;</div>\n\n<div style="text-align: center\;"><span style="color:#000080\;"><span style="font-family: tahoma\;"><span style="font-size: 16px\;"><strong><span style="font-size: 18px\;">Beer\, Burgers\, Band and Bags...<br />\n<br />\n9th Anniversary Party from 3pm-close!</span></strong><br />\n<br />\n<br />\nBeer flows and Build your own burger bar from 3-5pm\,<br />\nBand starts at 7pm and all only for $10!<br />\n<br />\n<br />\nBean bag tourney will start at 5pm\, $10 per\, 100% payout\,<br />\nL.O.D. and double elimination.</span></span></span></div>\n
LOCATION:The Well Sports Tavern & Grill 35 Coon Rapids Boulevard NW
UID:e.380.151267
SEQUENCE:3
DTSTAMP:20260423T222654Z
URL:http://members.metronorthchamber.org/events/details/beer-burgers-band-and-bags-08-16-2014-151267
END:VEVENT

END:VCALENDAR
