BEGIN:VCALENDAR
VERSION:2.0
PRODID:-//ChamberMaster//Event Calendar 2.0//EN
METHOD:PUBLISH
X-PUBLISHED-TTL:P3D
REFRESH-INTERVAL:P3D
CALSCALE:GREGORIAN
BEGIN:VEVENT
DTSTART:20150603T214500Z
DTEND:20150603T230000Z
X-MICROSOFT-CDO-ALLDAYEVENT:FALSE
SUMMARY:Beer\, Brats & Burger Night
DESCRIPTION:You're invited to join the Spring Lake Park Lions as they enjoy a night of grilling and comradery! Enjoy beer\, brats & burgers on June 3\, at Sanburnol
X-ALT-DESC;FMTTYPE=text/html:You&#39\;re invited to join the Spring Lake Park Lions as they enjoy a night of grilling and comradery! Enjoy b<span style="line-height: 20.7999992370605px\;">eer\, brats &amp\; burgers on June 3\, at </span><span style="line-height: 20.7999992370605px\;">Sanburnol</span>
LOCATION:Sanburnol Park\, Spring Lake Park MN
UID:e.380.157349
SEQUENCE:3
DTSTAMP:20260423T083736Z
URL:http://members.metronorthchamber.org/events/details/beer-brats-burger-night-06-03-2015-157349
END:VEVENT

END:VCALENDAR
