BEGIN:VCALENDAR
VERSION:2.0
PRODID:-//ChamberMaster//Event Calendar 2.0//EN
METHOD:PUBLISH
X-PUBLISHED-TTL:P3D
REFRESH-INTERVAL:P3D
CALSCALE:GREGORIAN
BEGIN:VEVENT
DTSTART:20180403T214500Z
DTEND:20180403T233000Z
X-MICROSOFT-CDO-ALLDAYEVENT:FALSE
SUMMARY:Beef Up Our Scholarship Fund
DESCRIPTION:Our 1st ever meat raffle! MetroNorth members will have the first opportunity to play a traditional meat raffle-but not just for traditional meat-we are raffling extraordinary meat! Donated by Mr. Darcy's Cows\, this premium quality\, pasture-raised and corn finished beef is exceptional! The cows are fed Mr. Darcy's own alfalfa during the winter\, as well as non-GMO corn to enhance marbling and flavor. Weather permitting\, the animals are outside on pasture. Check out Mr. Darcy's Cows website for more information.\n\n \n\nProceeds from the meat raffle\, conducted by the Spring Lake Park Lions\, will be donated to the MetroNorth Workforce Development Foundation\, which provides scholarships to local high school students.\n\n \n\nIncluded with your admission ticket are appetizers\, networking and door prizes. Meat raffle tickets not included.
X-ALT-DESC;FMTTYPE=text/html:Our 1st ever meat raffle! MetroNorth members will have the first opportunity to play a traditional meat raffle-but not just for traditional meat-we are raffling extraordinary meat! Donated by Mr. Darcy&rsquo\;s Cows\, this premium quality\, pasture-raised and corn finished beef is exceptional! The cows are fed Mr. Darcy&#39\;s own alfalfa during the winter\, as well as non-GMO corn to enhance marbling and flavor. Weather permitting\, the animals are outside on pasture. Check out <strong><a href="https://www.mrdarcyscows.com/"><span style="color:#B22222\;">Mr. Darcy&#39\;s Cows website</span></a> </strong>for more information.<br />\n&nbsp\;<br />\nProceeds from the meat raffle\, conducted by the Spring Lake Park Lions\, will be donated to the MetroNorth <strong><a href="http://metronorthworkforce.org/"><span style="color:#B22222\;">Workforce Development Foundation</span></a></strong>\, which provides scholarships to local high school students.<br />\n&nbsp\;<br />\nIncluded with your admission ticket are appetizers\, networking and door prizes. Meat raffle tickets not included. &nbsp\;
LOCATION:Sticks & Stones 9250 Lincoln Street NE Located at Fogerty Arena Blaine 55434
UID:e.380.180319
SEQUENCE:3
DTSTAMP:20260421T003055Z
URL:http://members.metronorthchamber.org/events/details/beef-up-our-scholarship-fund-180319
END:VEVENT

END:VCALENDAR
