BEGIN:VCALENDAR
VERSION:2.0
PRODID:-//ChamberMaster//Event Calendar 2.0//EN
METHOD:PUBLISH
X-PUBLISHED-TTL:P3D
REFRESH-INTERVAL:P3D
CALSCALE:GREGORIAN
BEGIN:VEVENT
DTSTART:20170913T163000Z
DTEND:20170913T180000Z
X-MICROSOFT-CDO-ALLDAYEVENT:FALSE
SUMMARY:Becoming An On Point Leader: Leading People and Teams in the 21st Century
DESCRIPTION:The Working with Women Committee is pleased to share that Pam Borton\, former head women's U of M basketball coach\, will keynote a luncheon on September 13th. Borton led Minnesota to its first Final Four appearance in 2004 and she led the team to 6 NCAA appearances and 3 straight Sweet 16 appearances. She has a rare executive combination of major college athletics\, assembling and coaching teams\, reaching a Final Four and now a certified personal and executive coach. Don't miss her presentation on leading people and teams!
X-ALT-DESC;FMTTYPE=text/html:The Working with Women Committee is pleased to share that Pam Borton\, former head women&#39\;s U of M basketball coach\, will keynote a luncheon on September 13th. Borton&nbsp\;led Minnesota to its first Final Four appearance in 2004 and she led the team to 6 NCAA appearances and 3 straight Sweet 16 appearances. She has a rare executive combination of major college athletics\, assembling and coaching teams\, reaching a Final Four and now a certified personal and executive coach. Don&#39\;t miss her presentation on leading people and teams!
LOCATION:Crooner's Lounge and Supper Club 6161 Highway 65 NE Fridley 55432
UID:e.380.175129
SEQUENCE:3
DTSTAMP:20260421T100218Z
URL:http://members.metronorthchamber.org/events/details/becoming-an-on-point-leader-leading-people-and-teams-in-the-21st-century-175129
END:VEVENT

END:VCALENDAR
