BEGIN:VCALENDAR
VERSION:2.0
PRODID:-//ChamberMaster//Event Calendar 2.0//EN
METHOD:PUBLISH
X-PUBLISHED-TTL:P3D
REFRESH-INTERVAL:P3D
CALSCALE:GREGORIAN
BEGIN:VEVENT
DTSTART:20140911T223000Z
DTEND:20140912T013000Z
X-MICROSOFT-CDO-ALLDAYEVENT:FALSE
SUMMARY:BE CONNECTED To Effective Networking
DESCRIPTION:Pete Machalek of SagePresence has delivered a number of well-received presentations for MetroNorth over the years\, and has reached out to us to offer a special discount to MetroNorth members. Use a Promo Code of MNCC to save $10 off the advance registration!\n\n\n\nClick here to learn more and register.
X-ALT-DESC;FMTTYPE=text/html:<br />\nPete Machalek of SagePresence has delivered a number of well-received presentations for MetroNorth over the years\, and has reached out to us to offer a special discount to MetroNorth members. Use a Promo Code of <strong>MNCC</strong> to save $10 off the advance registration!<br />\n<br />\n<u><a href="http://www.sagepresence.com/events/be-connected-to-effective-networking/"><span style="color:#0000FF\;">Click here to learn more and register.</span></a></u>
LOCATION:Held at Joule 1200 Washington Ave S Suite 270 Minneapolis\, MN 55415
UID:e.380.151535
SEQUENCE:3
DTSTAMP:20260423T205536Z
URL:http://members.metronorthchamber.org/events/details/be-connected-to-effective-networking-09-11-2014-151535
END:VEVENT

END:VCALENDAR
