BEGIN:VCALENDAR
VERSION:2.0
PRODID:-//ChamberMaster//Event Calendar 2.0//EN
METHOD:PUBLISH
X-PUBLISHED-TTL:P3D
REFRESH-INTERVAL:P3D
CALSCALE:GREGORIAN
BEGIN:VEVENT
DTSTART:20150416T210000Z
DTEND:20150416T230000Z
X-MICROSOFT-CDO-ALLDAYEVENT:FALSE
SUMMARY:Banquets of Minnesota Ribbon Cutting
DESCRIPTION:Come help us celebrate the ribbon cutting for Banquets of Minnesota. They will be hosting appetizers and wine for all guests.
X-ALT-DESC;FMTTYPE=text/html:Come help us celebrate the ribbon cutting for Banquets of Minnesota. They will be hosting appetizers and wine for all guests.&nbsp\;
LOCATION:The ribbon cutting will be held at the Banquets of Minnesota. 6310 Highway 65 NE Fridley\, MN 55432
UID:e.380.157224
SEQUENCE:3
DTSTAMP:20260423T100637Z
URL:http://members.metronorthchamber.org/events/details/banquets-of-minnesota-ribbon-cutting-04-16-2015-157224
END:VEVENT

END:VCALENDAR
