BEGIN:VCALENDAR
VERSION:2.0
PRODID:-//ChamberMaster//Event Calendar 2.0//EN
METHOD:PUBLISH
X-PUBLISHED-TTL:P3D
REFRESH-INTERVAL:P3D
CALSCALE:GREGORIAN
BEGIN:VEVENT
DTSTART:20171102T220000Z
DTEND:20171103T000000Z
X-MICROSOFT-CDO-ALLDAYEVENT:FALSE
SUMMARY:Banking After Hours with Border State Bank
DESCRIPTION:Join us for our fall Banking After Hours event.  Stop by and enjoy complimentary beer from Alloy brewing\, wine\, hors d' oeuvres and good company.\n\n\n\nPlease RSVP by October 26th to Patty at 763-780-6608 or email patty.reuter@borderstatebank.com.
X-ALT-DESC;FMTTYPE=text/html:Join us for our fall Banking After Hours event.&nbsp\; Stop by and enjoy complimentary beer from Alloy brewing\, wine\, hors d&#39\; oeuvres and good company.<br />\n<br />\nPlease RSVP by October 26th to Patty at 763-780-6608 or email patty.reuter@borderstatebank.com.
LOCATION:Border State Bank 9950 Foley Blvd NW Coon Rapids\, MN 55448
UID:e.380.179203
SEQUENCE:3
DTSTAMP:20260421T082729Z
URL:http://members.metronorthchamber.org/events/details/banking-after-hours-with-border-state-bank-179203
END:VEVENT

END:VCALENDAR
