BEGIN:VCALENDAR
VERSION:2.0
PRODID:-//ChamberMaster//Event Calendar 2.0//EN
METHOD:PUBLISH
X-PUBLISHED-TTL:P3D
REFRESH-INTERVAL:P3D
CALSCALE:GREGORIAN
BEGIN:VEVENT
DTSTART:20171118T233000Z
DTEND:20171119T010000Z
X-MICROSOFT-CDO-ALLDAYEVENT:FALSE
SUMMARY:Jam Hops Back Tumbling Skill Clinic
DESCRIPTION:Come master the steps and techniques of your back tumbling skills! Ages 6 and up.
X-ALT-DESC;FMTTYPE=text/html:Come master the steps and techniques of your back tumbling skills! Ages 6 and up.
LOCATION:1460 133rd Lane NE\, Ham Lake
UID:e.380.179152
SEQUENCE:3
DTSTAMP:20260421T070551Z
URL:http://members.metronorthchamber.org/events/details/back-tumbling-skill-clinic-179152
END:VEVENT

END:VCALENDAR
