BEGIN:VCALENDAR
VERSION:2.0
PRODID:-//ChamberMaster//Event Calendar 2.0//EN
METHOD:PUBLISH
X-PUBLISHED-TTL:P3D
REFRESH-INTERVAL:P3D
CALSCALE:GREGORIAN
BEGIN:VEVENT
DTSTART;VALUE=DATE:20170728
DTEND;VALUE=DATE:20170731
TRANSP:TRANSPARENT
X-MICROSOFT-CDO-ALLDAYEVENT:TRUE
SUMMARY:Back to School Event
DESCRIPTION:50% off kids clothing\, kids shoes\, and kids accessories\, excludes red tags
X-ALT-DESC;FMTTYPE=text/html:50% off kids clothing\, kids shoes\, and kids accessories\, excludes red tags
LOCATION:Savers 50 Coon Rapids Blvd\, Coon Rapids 55448
UID:e.380.176298
SEQUENCE:3
DTSTAMP:20260421T121214Z
URL:http://members.metronorthchamber.org/events/details/back-to-school-event-176298
END:VEVENT

END:VCALENDAR
