BEGIN:VCALENDAR
VERSION:2.0
PRODID:-//ChamberMaster//Event Calendar 2.0//EN
METHOD:PUBLISH
X-PUBLISHED-TTL:P3D
REFRESH-INTERVAL:P3D
CALSCALE:GREGORIAN
BEGIN:VEVENT
DTSTART:20191012T230000Z
DTEND:20191013T003000Z
X-MICROSOFT-CDO-ALLDAYEVENT:FALSE
SUMMARY:Back Handspring Skill Clinic
DESCRIPTION:Our skill clinics are filled with learning and fun! At our skill clinics participants will learn through step-by-step progressions using the floor\, tumble trak\, and trampolines. This is a great opportunity for those of any level who want to learn or improve their skills. For ages 6 and older.
X-ALT-DESC;FMTTYPE=text/html:<span style="font-size:14px">Our skill clinics are filled with learning and fun! At our skill clinics participants will learn through&nbsp\;step-by-step progressions using the floor\, tumble&nbsp\;trak\, and trampolines. This is a great opportunity for those of any level who want to learn or improve their&nbsp\;skills. For ages 6 and older.</span>
LOCATION:1460 133rd Lane\, NE Ham Lake
UID:e.380.191427
SEQUENCE:3
DTSTAMP:20260419T175819Z
URL:http://members.metronorthchamber.org/events/details/back-handspring-skill-clinic-191427
END:VEVENT

END:VCALENDAR
