BEGIN:VCALENDAR
VERSION:2.0
PRODID:-//ChamberMaster//Event Calendar 2.0//EN
METHOD:PUBLISH
X-PUBLISHED-TTL:P3D
REFRESH-INTERVAL:P3D
CALSCALE:GREGORIAN
BEGIN:VEVENT
DTSTART:20190224T000000Z
DTEND:20190224T013000Z
X-MICROSOFT-CDO-ALLDAYEVENT:FALSE
SUMMARY:Back Handspring Clinic
DESCRIPTION:Come learn the steps for a back handspring for ages 6-18.
X-ALT-DESC;FMTTYPE=text/html:Come learn the steps for a back handspring for ages 6-18.
LOCATION:Jam Hops\, 1460 133rd Lane NE\, Ham Lake
UID:e.380.188360
SEQUENCE:3
DTSTAMP:20260420T073427Z
URL:http://members.metronorthchamber.org/events/details/back-handspring-clinic-188360
END:VEVENT

END:VCALENDAR
