BEGIN:VCALENDAR
VERSION:2.0
PRODID:-//ChamberMaster//Event Calendar 2.0//EN
METHOD:PUBLISH
X-PUBLISHED-TTL:P3D
REFRESH-INTERVAL:P3D
CALSCALE:GREGORIAN
BEGIN:VEVENT
DTSTART;VALUE=DATE:20120601
DTEND;VALUE=DATE:20120604
TRANSP:TRANSPARENT
X-MICROSOFT-CDO-ALLDAYEVENT:TRUE
SUMMARY:AVTT (American Veteran Traveling Tribute)
DESCRIPTION:The AVTT (American Veteran Traveling Tribute) is coming June 1-2-3 2012 to Anoka County Blaine Airport during Discover Aviation Days.
X-ALT-DESC;FMTTYPE=text/html:<font face="Arial">The AVTT (American Veteran Traveling Tribute) is coming&nbsp\;June 1-2-3 2012 to Anoka County Blaine Airport during Discover Aviation Days.<o:p></o:p></font>
LOCATION:Anoka County Blaine Airport
UID:e.380.142938
SEQUENCE:3
DTSTAMP:20260425T161945Z
URL:http://members.metronorthchamber.org/events/details/avtt-american-veteran-traveling-tribute-06-01-2012-142938
END:VEVENT

END:VCALENDAR
