BEGIN:VCALENDAR
VERSION:2.0
PRODID:-//ChamberMaster//Event Calendar 2.0//EN
METHOD:PUBLISH
X-PUBLISHED-TTL:P3D
REFRESH-INTERVAL:P3D
CALSCALE:GREGORIAN
BEGIN:VEVENT
DTSTART:20130406T150000Z
DTEND:20130406T190000Z
X-MICROSOFT-CDO-ALLDAYEVENT:FALSE
SUMMARY:Aveda Women's Expo
DESCRIPTION:Come Enjoy free hair styling\, makeup applications\, nails\, shopping\, silent auction & so much more! Tickets are $5.00 & are on sale now at Aveda.
X-ALT-DESC;FMTTYPE=text/html:Come Enjoy free hair styling\, makeup applications\, nails\, shopping\, silent auction &amp\; so much more! Tickets are $5.00 &amp\; are on sale now at Aveda.
LOCATION:Aveda Corporation 4000 Pheasant Ridge Drive Blaine\, MN 55449 763-951-4250
UID:e.380.148660
SEQUENCE:3
DTSTAMP:20260425T020229Z
URL:http://members.metronorthchamber.org/events/details/aveda-women-s-expo-04-06-2013-148660
END:VEVENT

END:VCALENDAR
