BEGIN:VCALENDAR
VERSION:2.0
PRODID:-//ChamberMaster//Event Calendar 2.0//EN
METHOD:PUBLISH
X-PUBLISHED-TTL:P3D
REFRESH-INTERVAL:P3D
CALSCALE:GREGORIAN
BEGIN:VEVENT
DTSTART:20170519T120000Z
DTEND:20170520T200000Z
X-MICROSOFT-CDO-ALLDAYEVENT:FALSE
SUMMARY:Aveda POP-UP Shop Community Appreciation Sale
DESCRIPTION:Stock up on hair care\, skin care\, and makeup\n\nShop early for the best selection\n\nBring your own bag\; cash & credit only\n\n\n\n10% of the proceeds from the event will be donated to CEAP\n\n-a local Blaine charity for families in need.
X-ALT-DESC;FMTTYPE=text/html:Stock up on hair care\, skin care\, and makeup<br />\nShop early for the best selection<br />\nBring your own bag\; cash &amp\; credit only<br />\n<br />\n10% of the proceeds from the event will be donated to CEAP<br />\n-a local Blaine charity for families in need.
LOCATION:4000 Pheasant Ridge Drive Blaine\, MN
UID:e.380.175063
SEQUENCE:3
DTSTAMP:20260421T153137Z
URL:http://members.metronorthchamber.org/events/details/aveda-pop-up-shop-community-appreciation-sale-175063
END:VEVENT

END:VCALENDAR
