BEGIN:VCALENDAR
VERSION:2.0
PRODID:-//ChamberMaster//Event Calendar 2.0//EN
METHOD:PUBLISH
X-PUBLISHED-TTL:P3D
REFRESH-INTERVAL:P3D
CALSCALE:GREGORIAN
BEGIN:VEVENT
DTSTART:20190122T150000Z
DTEND:20190122T210000Z
X-MICROSOFT-CDO-ALLDAYEVENT:FALSE
SUMMARY:Aveda Job Fair
DESCRIPTION:Aveda Hiring Event! Offers on the Spot!\n\nWe will be holding interviews for the following positions:\n\n\n	General Compounder - $18 / hour\, Full-time\n	Machine Operator - $17 / hour\, Full-time\n	Line Attendant - $15 / hour\, Full-time\n\n\n\nWe will be hiring for the following location\n\n\n	Aveda\, 4000 Pheasant Ridge Dr NE\, Blaine\, MN 55449\n\n\n\nRequirements\n\n\n	Requires a high school diploma or equivalent\n	Ability to stand for 7 hours daily\n	Ability to lift 50 pounds\n	Previous manufacturing experience helpful\n\n\nHow to prepare\n\nThe entire interview process will last about 30 min Completing our online application prior to the event is strongly encouraged and will speed up the process. Please bring your resume with you to the event.\n\nWhat to wear\n\nDress code is Casual (come as you are\, but please be presentable).\n\nHow to get to the event\n\nPlease feel free to park up front in visitor parking and enter the building through Door 1.\n\nAbout the Company\n\nAveda and the Estee Lauder Companies offer great benefits including a climate controlled and clean manufacturing facility\, paid time off along with paid holidays\, health care benefits starting on day one and great product discounts. We offer tuition reimbursement opportunity along with student loan contribution program after you graduate. Saving for retirement is made easy with our company match 401K and pension plan.\n\n \n\nWhat is a Hiring Event?\n\nThink of it like a job fair\, but for one company and more personal. Hiring events are a great way for employers to fill multiple roles quickly. Hiring is a human process\, and they would like to meet you to see if you're a fit!
X-ALT-DESC;FMTTYPE=text/html:<h1 style="box-sizing: border-box\; font-size: 1.4375rem\; margin: 1em 0px 0.5em\; font-family: &quot\;Helvetica Neue&quot\;\, Helvetica\, Arial\, &quot\;Liberation Sans&quot\;\, Roboto\, Noto\, sans-serif\; line-height: 1.2\; letter-spacing: 0.64px\;">Aveda Hiring Event! Offers on the Spot!</h1>\n\n<h4 style="box-sizing: border-box\; font-family: &quot\;Helvetica Neue&quot\;\, Helvetica\, Arial\, &quot\;Liberation Sans&quot\;\, Roboto\, Noto\, sans-serif\; line-height: 1.2\; margin-top: 1em\; margin-bottom: 0.5em\; font-size: 16px\; letter-spacing: 0.64px\;">We will be holding interviews for the following positions:</h4>\n\n<ul style="box-sizing: border-box\; margin-top: 0px\; margin-bottom: 12px\; padding-left: 20px\; line-height: 1.85\; color: rgb(75\, 75\, 75)\; font-family: &quot\;Helvetica Neue&quot\;\, Helvetica\, Arial\, &quot\;Liberation Sans&quot\;\, Roboto\, Noto\, sans-serif\; font-size: 16px\; letter-spacing: 0.64px\;">\n	<li class="event-job" style="box-sizing: border-box\; padding-left: 0px\;"><span style="box-sizing: border-box\;">General Compounder</span>&nbsp\;<span class="event-job-delimiter" style="box-sizing: border-box\;">-</span>&nbsp\;<span class="event-job-details" style="box-sizing: border-box\; color: rgb(204\, 204\, 204)\; font-size: 0.9rem\;">$18 / hour\, Full-time</span></li>\n	<li class="event-job" style="box-sizing: border-box\; padding-left: 0px\;"><span style="box-sizing: border-box\;">Machine Operator</span>&nbsp\;<span class="event-job-delimiter" style="box-sizing: border-box\;">-</span>&nbsp\;<span class="event-job-details" style="box-sizing: border-box\; color: rgb(204\, 204\, 204)\; font-size: 0.9rem\;">$17 / hour\, Full-time</span></li>\n	<li class="event-job" style="box-sizing: border-box\; padding-left: 0px\;"><span style="box-sizing: border-box\;">Line Attendant</span>&nbsp\;<span class="event-job-delimiter" style="box-sizing: border-box\;">-</span>&nbsp\;<span class="event-job-details" style="box-sizing: border-box\; color: rgb(204\, 204\, 204)\; font-size: 0.9rem\;">$15 / hour\, Full-time</span></li>\n</ul>\n\n<div class="event-detail" style="box-sizing: border-box\; margin-bottom: 4px\; color: rgb(75\, 75\, 75)\; font-family: &quot\;Helvetica Neue&quot\;\, Helvetica\, Arial\, &quot\;Liberation Sans&quot\;\, Roboto\, Noto\, sans-serif\; font-size: 16px\; letter-spacing: 0.64px\;">\n<h4 style="box-sizing: border-box\; line-height: 1.2\; color: rgb(0\, 0\, 0)\; margin-top: 1em\; margin-bottom: 0.5em\; font-size: 1rem\;">We will be hiring for the following location</h4>\n\n<ul style="box-sizing: border-box\; margin-top: 0px\; margin-bottom: 12px\; padding-left: 20px\; line-height: 1.85\;">\n	<li style="box-sizing: border-box\; padding-left: 0px\;">Aveda\, 4000 Pheasant Ridge Dr NE\, Blaine\, MN 55449</li>\n</ul>\n</div>\n\n<h4 style="box-sizing: border-box\; font-family: &quot\;Helvetica Neue&quot\;\, Helvetica\, Arial\, &quot\;Liberation Sans&quot\;\, Roboto\, Noto\, sans-serif\; line-height: 1.2\; margin-top: 1em\; margin-bottom: 0.5em\; font-size: 16px\; letter-spacing: 0.64px\;">Requirements</h4>\n\n<ul style="box-sizing: border-box\; margin-top: 0px\; margin-bottom: 12px\; padding-left: 20px\; line-height: 1.85\; color: rgb(75\, 75\, 75)\; font-family: &quot\;Helvetica Neue&quot\;\, Helvetica\, Arial\, &quot\;Liberation Sans&quot\;\, Roboto\, Noto\, sans-serif\; font-size: 16px\; letter-spacing: 0.64px\;">\n	<li style="box-sizing: border-box\; padding-left: 0px\;">Requires a high school diploma or equivalent</li>\n	<li style="box-sizing: border-box\; padding-left: 0px\;">Ability to stand for 7 hours daily</li>\n	<li style="box-sizing: border-box\; padding-left: 0px\;">Ability to lift 50 pounds</li>\n	<li style="box-sizing: border-box\; padding-left: 0px\;">Previous manufacturing experience helpful</li>\n</ul>\n\n<h4 style="box-sizing: border-box\; font-family: &quot\;Helvetica Neue&quot\;\, Helvetica\, Arial\, &quot\;Liberation Sans&quot\;\, Roboto\, Noto\, sans-serif\; line-height: 1.2\; margin-top: 1em\; margin-bottom: 0.5em\; font-size: 16px\; letter-spacing: 0.64px\;">How to prepare</h4>\n\n<p style="box-sizing: border-box\; margin: 0px 0px 12px\; color: rgb(75\, 75\, 75)\; font-family: &quot\;Helvetica Neue&quot\;\, Helvetica\, Arial\, &quot\;Liberation Sans&quot\;\, Roboto\, Noto\, sans-serif\; font-size: 16px\; letter-spacing: 0.64px\;">The entire interview process will last about 30 min Completing our&nbsp\;<a href="https://www.indeed.com/jobs?q=aveda&amp\;l=blaine" rel="noopener noreferrer" style="box-sizing: border-box\; color: rgb(8\, 95\, 247)\; text-decoration-line: none\;" target="_blank">online application</a>&nbsp\;prior to the event is strongly encouraged and will speed up the process. Please bring your resume with you to the event.</p>\n\n<h4 style="box-sizing: border-box\; font-family: &quot\;Helvetica Neue&quot\;\, Helvetica\, Arial\, &quot\;Liberation Sans&quot\;\, Roboto\, Noto\, sans-serif\; line-height: 1.2\; margin-top: 1em\; margin-bottom: 0.5em\; font-size: 16px\; letter-spacing: 0.64px\;">What to wear</h4>\n\n<p style="box-sizing: border-box\; margin: 0px 0px 12px\; color: rgb(75\, 75\, 75)\; font-family: &quot\;Helvetica Neue&quot\;\, Helvetica\, Arial\, &quot\;Liberation Sans&quot\;\, Roboto\, Noto\, sans-serif\; font-size: 16px\; letter-spacing: 0.64px\;">Dress code is Casual (come as you are\, but please be presentable).</p>\n\n<h4 style="box-sizing: border-box\; font-family: &quot\;Helvetica Neue&quot\;\, Helvetica\, Arial\, &quot\;Liberation Sans&quot\;\, Roboto\, Noto\, sans-serif\; line-height: 1.2\; margin-top: 1em\; margin-bottom: 0.5em\; font-size: 16px\; letter-spacing: 0.64px\;">How to get to the event</h4>\n\n<p style="box-sizing: border-box\; margin: 0px 0px 12px\; color: rgb(75\, 75\, 75)\; font-family: &quot\;Helvetica Neue&quot\;\, Helvetica\, Arial\, &quot\;Liberation Sans&quot\;\, Roboto\, Noto\, sans-serif\; font-size: 16px\; letter-spacing: 0.64px\;">Please feel free to park up front in visitor parking and enter the building through Door 1.</p>\n\n<h4 style="box-sizing: border-box\; font-family: &quot\;Helvetica Neue&quot\;\, Helvetica\, Arial\, &quot\;Liberation Sans&quot\;\, Roboto\, Noto\, sans-serif\; line-height: 1.2\; margin-top: 1em\; margin-bottom: 0.5em\; font-size: 16px\; letter-spacing: 0.64px\;">About the Company</h4>\n\n<p style="box-sizing: border-box\; margin: 0px 0px 12px\; color: rgb(75\, 75\, 75)\; font-family: &quot\;Helvetica Neue&quot\;\, Helvetica\, Arial\, &quot\;Liberation Sans&quot\;\, Roboto\, Noto\, sans-serif\; font-size: 16px\; letter-spacing: 0.64px\;">Aveda and the Estee Lauder Companies offer great benefits including a climate controlled and clean manufacturing facility\, paid time off along with paid holidays\, health care benefits starting on day one and great product discounts. We offer tuition reimbursement opportunity along with student loan contribution program after you graduate. Saving for retirement is made easy with our company match 401K and pension plan.</p>\n\n<p style="box-sizing: border-box\; margin: 0px 0px 12px\; color: rgb(75\, 75\, 75)\; font-family: &quot\;Helvetica Neue&quot\;\, Helvetica\, Arial\, &quot\;Liberation Sans&quot\;\, Roboto\, Noto\, sans-serif\; font-size: 16px\; letter-spacing: 0.64px\;">&nbsp\;</p>\n\n<h2 style="box-sizing: border-box\; font-family: &quot\;Helvetica Neue&quot\;\, Helvetica\, Arial\, &quot\;Liberation Sans&quot\;\, Roboto\, Noto\, sans-serif\; font-weight: 400\; line-height: 1.2\; margin: 1em 0px 0.5em\; font-size: 1.4375rem\; letter-spacing: 0.64px\;">What is a Hiring Event?</h2>\n\n<p style="box-sizing: border-box\; margin: 0px 0px 12px\; color: rgb(75\, 75\, 75)\; font-family: &quot\;Helvetica Neue&quot\;\, Helvetica\, Arial\, &quot\;Liberation Sans&quot\;\, Roboto\, Noto\, sans-serif\; font-size: 16px\; letter-spacing: 0.64px\;">Think of it like a job fair\, but for one company and more personal. Hiring events are a great way for employers to fill multiple roles quickly. Hiring is a human process\, and they would like to meet you to see if you&rsquo\;re a fit!</p>\n\n<div id="event-detail-disclaimer" style="box-sizing: border-box\; font-size: 12px\; color: rgb(111\, 111\, 111)\; margin-top: 20px\; font-family: &quot\;Helvetica Neue&quot\;\, Helvetica\, Arial\, &quot\;Liberation Sans&quot\;\, Roboto\, Noto\, sans-serif\; letter-spacing: 0.64px\;">&nbsp\;</div>\n
LOCATION:Aveda\, 4000 Pheasant Ridge Dr NE\, Blaine\, MN 55449
UID:e.380.187930
SEQUENCE:3
DTSTAMP:20260420T103925Z
URL:http://members.metronorthchamber.org/events/details/aveda-job-fair-187930
END:VEVENT

END:VCALENDAR
