BEGIN:VCALENDAR
VERSION:2.0
PRODID:-//ChamberMaster//Event Calendar 2.0//EN
METHOD:PUBLISH
X-PUBLISHED-TTL:P3D
REFRESH-INTERVAL:P3D
CALSCALE:GREGORIAN
BEGIN:VEVENT
DTSTART;VALUE=DATE:20190521
DTEND;VALUE=DATE:20190522
TRANSP:TRANSPARENT
X-MICROSOFT-CDO-ALLDAYEVENT:TRUE
SUMMARY:Aveda Hiring Event
DESCRIPTION:Line Attendant - $15 / hour\, Full-time\n	General Compounder - $18 / hour\, Full-time\n\n\n\nWe will be hiring for the following location\n\n\n	Aveda\, 4000 Pheasant Ridge Dr NE\, Blaine\, MN 55449 US https://events.indeed.com/event/12042/?from=sj&vjs=3\n\n\n\nRequirements\n\n\n	Requires a high school diploma or equivalent\n	Ability to stand for 7 hours daily\n	Ability to lift 50 pounds\n	Previous manufacturing/compounding experience helpful\n\n\nHow to prepare\n\nThe entire interview process will last about 30 min. Completing our online application prior to the event is strongly encouraged and will speed up the process. Please bring your resume with you to the event.\n\nWhat to wear\n\nDress code is Casual (come as you are\, but please be presentable).\n\nHow to get to the event\n\nPlease feel free to park up front in visitor parking and enter the building through Door 1.\n\nAbout the Company\n\nAveda and the Estee Lauder Companies offer great benefits including a climate controlled and clean manufacturing facility\, paid time off along with paid holidays\, health care benefits starting on day one and great product discounts. We offer tuition reimbursement opportunity along with student loan contribution program after you graduate. Saving for retirement is made easy with our company match 401K and pension plan.\n\n\n\n \n\n \n\nWhat is a Hiring Event?\n\nThink of it like a job fair\, but for one company and more personal. Hiring events are a great way for employers to fill multiple roles quickly. Hiring is a human process\, and they would like to meet you to see if you're a fit!\n\nThis is an ad\, and the event is hosted by a third-party. Indeed makes no guarantees about the accuracy of the ad's details.\n\n\n\n\n\n\nHiring Event Details\n\n\n\nTuesday\, May 21\, 2019\n\n12:00 PM - 4:00 PM\n\nAveda\n\n4000 Pheasant Ridge Dr.\n\nBlaine\, MN 55449
X-ALT-DESC;FMTTYPE=text/html:<section class="hide-max-md card" style="background-color: rgb(255\, 255\, 255)\; border-bottom-left-radius: 0px\; border-bottom-right-radius: 0px\; border-top-left-radius: 0px\; border-top-right-radius: 0px\; box-sizing: border-box\; display: block\; margin-bottom: 8px\; position: relative\;">\n<header class="card-header" style="background-attachment: scroll\; background-clip: border-box\; background-color: transparent\; background-image: none\; background-origin: padding-box\; background-position-x: 0%\; background-position-y: 0%\; background-repeat: repeat\; background-size: auto\; border-bottom-color: rgb(45\, 45\, 45)\; border-bottom-left-radius: 0px\; border-bottom-right-radius: 0px\; border-bottom-style: none\; border-bottom-width: 0px\; border-image-outset: 0\; border-image-repeat: stretch\; border-image-slice: 100%\; border-image-source: none\; border-image-width: 1\; border-left-color: rgb(45\, 45\, 45)\; border-left-style: none\; border-left-width: 0px\; border-right-color: rgb(45\, 45\, 45)\; border-right-style: none\; border-right-width: 0px\; border-top-color: rgb(45\, 45\, 45)\; border-top-left-radius: 0px\; border-top-right-radius: 0px\; border-top-style: none\; border-top-width: 0px\; box-sizing: border-box\; display: block\; padding-bottom: 0px\; padding-left: 16px\; padding-right: 16px\; padding-top: 16px\;">\n<h1 style="margin: 0px 0px 11.43px\; color: rgb(0\, 0\, 0)\; line-height: 27.43px\; font-size: 22.86px\; box-sizing: border-box\;">&nbsp\;</h1>\n\n<div class="on-the-spot-info" style="background-color: rgb(255\, 211\, 92)\; border-bottom-left-radius: 9px\; border-bottom-right-radius: 9px\; border-top-left-radius: 9px\; border-top-right-radius: 9px\; box-sizing: border-box\; display: inline-block\; font-size: 12.8px\; margin-bottom: 16px\; padding-bottom: 2px\; padding-left: 8px\; padding-right: 8px\; padding-top: 2px\;">&nbsp\;</div>\n</header>\n\n<div class="card-body" style="box-sizing: border-box\; padding-bottom: 16px\; padding-left: 16px\; padding-right: 16px\; padding-top: 16px\;">\n<ul style="box-sizing: border-box\; line-height: 25.77px\; margin-bottom: 12px\; margin-top: 0px\; padding-left: 20px\;">\n	<li class="event-job" style="box-sizing: border-box\; padding-left: 0px\;"><span style="box-sizing: border-box\;">Line Attendant</span> <span class="event-job-delimiter" style="box-sizing: border-box\;">-</span> <span class="event-job-details" style="box-sizing: border-box\; color: rgb(111\, 111\, 111)\; font-family: &amp\;quot\;Helvetica Neue&amp\;quot\;\,Helvetica\,Arial\,&amp\;quot\;Liberation Sans&amp\;quot\;\,Roboto\,Noto\,sans-serif\; font-size: 13.93px\; font-weight: 400\; letter-spacing: normal\; line-height: 19.91px\;">$15 / hour\, Full-time</span></li>\n	<li class="event-job" style="box-sizing: border-box\; padding-left: 0px\;"><span style="box-sizing: border-box\;">General Compounder</span> <span class="event-job-delimiter" style="box-sizing: border-box\;">-</span> <span class="event-job-details" style="box-sizing: border-box\; color: rgb(111\, 111\, 111)\; font-family: &amp\;quot\;Helvetica Neue&amp\;quot\;\,Helvetica\,Arial\,&amp\;quot\;Liberation Sans&amp\;quot\;\,Roboto\,Noto\,sans-serif\; font-size: 13.93px\; font-weight: 400\; letter-spacing: normal\; line-height: 19.91px\;">$18 / hour\, Full-time</span></li>\n</ul>\n\n<div class="event-detail" style="box-sizing: border-box\; margin-bottom: 12px\;">\n<h4 style="box-sizing: border-box\; color: rgb(0\, 0\, 0)\; font-family: &amp\;quot\;Helvetica Neue&amp\;quot\;\,Helvetica\,Arial\,&amp\;quot\;Liberation Sans&amp\;quot\;\,Roboto\,Noto\,sans-serif\; font-size: 16px\; font-weight: 700\; line-height: 19.2px\; margin-bottom: 8px\; margin-top: 0px\;">We will be hiring for the following location</h4>\n\n<ul style="box-sizing: border-box\; line-height: 25.77px\; margin-bottom: 12px\; margin-top: 0px\; padding-left: 20px\;">\n	<li style="box-sizing: border-box\; padding-left: 0px\;">Aveda\, 4000 Pheasant Ridge Dr NE\, Blaine\, MN 55449 US https://events.indeed.com/event/12042/?from=sj&amp\;vjs=3</li>\n</ul>\n</div>\n\n<h4 style="box-sizing: border-box\; color: rgb(0\, 0\, 0)\; font-family: &amp\;quot\;Helvetica Neue&amp\;quot\;\,Helvetica\,Arial\,&amp\;quot\;Liberation Sans&amp\;quot\;\,Roboto\,Noto\,sans-serif\; font-size: 16px\; font-weight: 700\; line-height: 19.2px\; margin-bottom: 8px\; margin-top: 0px\;">Requirements</h4>\n\n<ul style="box-sizing: border-box\; line-height: 25.77px\; margin-bottom: 12px\; margin-top: 0px\; padding-left: 20px\;">\n	<li style="box-sizing: border-box\; padding-left: 0px\;">Requires a high school diploma or equivalent</li>\n	<li style="box-sizing: border-box\; padding-left: 0px\;">Ability to stand for 7 hours daily</li>\n	<li style="box-sizing: border-box\; padding-left: 0px\;">Ability to lift 50 pounds</li>\n	<li style="box-sizing: border-box\; padding-left: 0px\;">Previous manufacturing/compounding experience helpful</li>\n</ul>\n\n<h4 style="box-sizing: border-box\; color: rgb(0\, 0\, 0)\; font-family: &amp\;quot\;Helvetica Neue&amp\;quot\;\,Helvetica\,Arial\,&amp\;quot\;Liberation Sans&amp\;quot\;\,Roboto\,Noto\,sans-serif\; font-size: 16px\; font-weight: 700\; line-height: 19.2px\; margin-bottom: 8px\; margin-top: 0px\;">How to prepare</h4>\n\n<p style="box-sizing: border-box\; letter-spacing: normal\; margin-bottom: 12px\; margin-left: 0px\; margin-right: 0px\; margin-top: 0px\;">The entire interview process will last about 30 min. Completing our <a href="https://www.indeed.com/jobs?q=aveda&amp\;l=blaine" rel="noopener noreferrer" style="background-color: transparent\; box-sizing: border-box\; color: rgb(8\, 95\, 247)\; letter-spacing: normal\; text-decoration: none\;" target="_blank">online application</a> prior to the event is strongly encouraged and will speed up the process. Please bring your resume with you to the event.</p>\n\n<h4 style="box-sizing: border-box\; color: rgb(0\, 0\, 0)\; font-family: &amp\;quot\;Helvetica Neue&amp\;quot\;\,Helvetica\,Arial\,&amp\;quot\;Liberation Sans&amp\;quot\;\,Roboto\,Noto\,sans-serif\; font-size: 16px\; font-weight: 700\; line-height: 19.2px\; margin-bottom: 8px\; margin-top: 0px\;">What to wear</h4>\n\n<p style="box-sizing: border-box\; letter-spacing: normal\; margin-bottom: 12px\; margin-left: 0px\; margin-right: 0px\; margin-top: 0px\;">Dress code is Casual (come as you are\, but please be presentable).</p>\n\n<h4 style="box-sizing: border-box\; color: rgb(0\, 0\, 0)\; font-family: &amp\;quot\;Helvetica Neue&amp\;quot\;\,Helvetica\,Arial\,&amp\;quot\;Liberation Sans&amp\;quot\;\,Roboto\,Noto\,sans-serif\; font-size: 16px\; font-weight: 700\; line-height: 19.2px\; margin-bottom: 8px\; margin-top: 0px\;">How to get to the event</h4>\n\n<p style="box-sizing: border-box\; letter-spacing: normal\; margin-bottom: 12px\; margin-left: 0px\; margin-right: 0px\; margin-top: 0px\;">Please feel free to park up front in visitor parking and enter the building through Door 1.</p>\n\n<h4 style="box-sizing: border-box\; color: rgb(0\, 0\, 0)\; font-family: &amp\;quot\;Helvetica Neue&amp\;quot\;\,Helvetica\,Arial\,&amp\;quot\;Liberation Sans&amp\;quot\;\,Roboto\,Noto\,sans-serif\; font-size: 16px\; font-weight: 700\; line-height: 19.2px\; margin-bottom: 8px\; margin-top: 0px\;">About the Company</h4>\n\n<p style="box-sizing: border-box\; letter-spacing: normal\; margin-bottom: 12px\; margin-left: 0px\; margin-right: 0px\; margin-top: 0px\;">Aveda and the Estee Lauder Companies offer great benefits including a climate controlled and clean manufacturing facility\, paid time off along with paid holidays\, health care benefits starting on day one and great product discounts. We offer tuition reimbursement opportunity along with student loan contribution program after you graduate. Saving for retirement is made easy with our company match 401K and pension plan.<br />\n<br />\n&nbsp\;</p>\n\n<p style="box-sizing: border-box\; letter-spacing: normal\; margin-bottom: 12px\; margin-left: 0px\; margin-right: 0px\; margin-top: 0px\;">&nbsp\;</p>\n\n<h2 style="box-sizing: border-box\; color: rgb(0\, 0\, 0)\; font-family: &amp\;quot\;Helvetica Neue&amp\;quot\;\,Helvetica\,Arial\,&amp\;quot\;Liberation Sans&amp\;quot\;\,Roboto\,Noto\,sans-serif\; font-size: 22.86px\; font-weight: 700\; letter-spacing: -0.1px\; line-height: 27.43px\; margin-bottom: 11.43px\; margin-left: 0px\; margin-right: 0px\; margin-top: 0px\;">What is a Hiring Event?</h2>\n\n<p style="box-sizing: border-box\; letter-spacing: normal\; margin-bottom: 12px\; margin-left: 0px\; margin-right: 0px\; margin-top: 0px\;">Think of it like a job fair\, but for one company and more personal. Hiring events are a great way for employers to fill multiple roles quickly. Hiring is a human process\, and they would like to meet you to see if you&rsquo\;re a fit!</p>\n\n<div id="event-detail-disclaimer" style="box-sizing: border-box\; color: rgb(111\, 111\, 111)\; font-size: 12px\; margin-top: 20px\;">This is an ad\, and the event is hosted by a third-party. Indeed makes no guarantees about the accuracy of the ad&#39\;s details.</div>\n</div>\n</section>\n\n<div class="darker-card col-xs-12 col-md-4" id="event-detail-container" style="background-color: rgb(50\, 58\, 71)\; box-sizing: border-box\; color: rgb(255\, 255\, 255)\; float: left\; font-family: &amp\;quot\;Helvetica Neue&amp\;quot\;\,Helvetica\,Arial\,&amp\;quot\;Liberation Sans&amp\;quot\;\,Roboto\,Noto\,sans-serif\; font-size: 13.93px\; font-style: normal\; font-variant: normal\; font-weight: 400\; letter-spacing: normal\; min-height: 1px\; orphans: 2\; padding-left: 15px\; padding-right: 15px\; position: relative\; text-align: left\; text-decoration: none\; text-indent: 0px\; text-transform: none\; -webkit-text-stroke-width: 0px\; white-space: normal\; width: 341.29px\; word-spacing: 0px\;">\n<section class="card" style="background-attachment: scroll\; background-clip: border-box\; background-color: transparent\; background-image: none\; background-origin: padding-box\; background-position-x: 0%\; background-position-y: 0%\; background-repeat: repeat\; background-size: auto\; border-bottom-left-radius: 0px\; border-bottom-right-radius: 0px\; border-top-left-radius: 0px\; border-top-right-radius: 0px\; box-sizing: border-box\; color: rgb(255\, 255\, 255)\; display: block\; margin-bottom: 8px\; position: relative\;">\n<header class="card-header" style="background-attachment: scroll\; background-clip: border-box\; background-color: transparent\; background-image: none\; background-origin: padding-box\; background-position-x: 0%\; background-position-y: 0%\; background-repeat: repeat\; background-size: auto\; border-bottom-color: rgb(255\, 255\, 255)\; border-bottom-left-radius: 0px\; border-bottom-right-radius: 0px\; border-bottom-style: solid\; border-bottom-width: 1px\; border-image-outset: 0\; border-image-repeat: stretch\; border-image-slice: 100%\; border-image-source: none\; border-image-width: 1\; border-left-color: rgb(255\, 255\, 255)\; border-left-style: none\; border-left-width: 0px\; border-right-color: rgb(255\, 255\, 255)\; border-right-style: none\; border-right-width: 0px\; border-top-color: rgb(255\, 255\, 255)\; border-top-left-radius: 0px\; border-top-right-radius: 0px\; border-top-style: none\; border-top-width: 0px\; box-sizing: border-box\; display: block\; padding-bottom: 16px\; padding-left: 0px\; padding-right: 0px\; padding-top: 16px\;">\n<h2 class="card-title" style="background-color: rgb(50\, 58\, 71)\; box-sizing: border-box\; color: rgb(255\, 255\, 255)\; font-family: &amp\;quot\;Helvetica Neue&amp\;quot\;\,Helvetica\,Arial\,&amp\;quot\;Liberation Sans&amp\;quot\;\,Roboto\,Noto\,sans-serif\; font-size: 20px\; font-weight: 700\; letter-spacing: -0.1px\; line-height: 26px\; margin-bottom: 0px\; margin-left: 0px\; margin-right: 0px\; margin-top: 0px\;">Hiring Event Details</h2>\n</header>\n\n<div class="card-body" id="event-details" style="box-sizing: border-box\; padding-bottom: 16px\; padding-left: 0px\; padding-right: 0px\; padding-top: 16px\;">\n<div class="event-detail-time" style="box-sizing: border-box\; margin-left: 27px\;">Tuesday\, May 21\, 2019<br style="box-sizing: border-box\;" />\n12:00 PM - 4:00 PM</div>\n\n<div class="event-detail-location" style="box-sizing: border-box\; margin-left: 27px\; margin-top: 12px\;"><strong style="box-sizing: border-box\; font-weight: 700\;">Aveda</strong><br style="box-sizing: border-box\;" />\n4000 Pheasant Ridge Dr.<br style="box-sizing: border-box\;" />\nBlaine\, MN 55449</div>\n</div>\n</section>\n</div>\n&nbsp\;\n\n<div class="page-content col-xs-12 col-md-4 second" style="background-color: rgb(255\, 255\, 255)\; box-sizing: border-box\; color: rgb(45\, 45\, 45)\; float: left\; font-family: &amp\;quot\;Helvetica Neue&amp\;quot\;\,Helvetica\,Arial\,&amp\;quot\;Liberation Sans&amp\;quot\;\,Roboto\,Noto\,sans-serif\; font-size: 13.93px\; font-style: normal\; font-variant: normal\; font-weight: 400\; letter-spacing: normal\; min-height: 1px\; orphans: 2\; padding-bottom: 24px\; padding-left: 15px\; padding-right: 15px\; padding-top: 24px\; position: relative\; text-align: left\; text-decoration: none\; text-indent: 0px\; text-transform: none\; -webkit-text-stroke-width: 0px\; white-space: normal\; width: 341.29px\; word-spacing: 0px\; word-wrap: break-word\;">\n<div id="rsvp-form-container" style="box-sizing: border-box\;">\n<h2 style="box-sizing: border-box\; color: rgb(0\, 0\, 0)\; font-family: &amp\;quot\;Helvetica Neue&amp\;quot\;\,Helvetica\,Arial\,&amp\;quot\;Liberation Sans&amp\;quot\;\,Roboto\,Noto\,sans-serif\; font-size: 22.86px\; font-weight: 700\; letter-spacing: -0.1px\; line-height: 27.88px\; margin-bottom: 11.43px\; margin-left: 0px\; margin-right: 0px\; margin-top: 0px\;">&nbsp\;</h2>\n\n<div class="form-group form-section" id="div_id_desired_interview_slot" style="box-sizing: border-box\; margin-bottom: 12px\;">\n<div class="controls " style="box-sizing: border-box\;">&nbsp\;</div>\n</div>\n</div>\n</div>\n
LOCATION:
UID:e.380.189305
SEQUENCE:3
DTSTAMP:20260420T022224Z
URL:http://members.metronorthchamber.org/events/details/aveda-hiring-event-189305
END:VEVENT

END:VCALENDAR
