BEGIN:VCALENDAR
VERSION:2.0
PRODID:-//ChamberMaster//Event Calendar 2.0//EN
METHOD:PUBLISH
X-PUBLISHED-TTL:P3D
REFRESH-INTERVAL:P3D
CALSCALE:GREGORIAN
BEGIN:VEVENT
DTSTART:20160330T210000Z
DTEND:20160330T230000Z
X-MICROSOFT-CDO-ALLDAYEVENT:FALSE
SUMMARY:Autumn Glen Spring Open House!
DESCRIPTION:Join us at Autumn Glen Senior Living for Spring Open House!\n\nCome tour and learn more about our Healthsense Emergency Call & Wellness Monitoring and more!
X-ALT-DESC;FMTTYPE=text/html:Join us at Autumn Glen Senior Living for Spring Open House!<br />\nCome tour and learn more about our Healthsense Emergency Call &amp\; Wellness Monitoring and more!
LOCATION:3715 Coon Rapids Blvd NW
UID:e.380.167371
SEQUENCE:3
DTSTAMP:20260422T175146Z
URL:http://members.metronorthchamber.org/events/details/autumn-glen-spring-open-house-03-30-2016-167371
END:VEVENT

END:VCALENDAR
