BEGIN:VCALENDAR
VERSION:2.0
PRODID:-//ChamberMaster//Event Calendar 2.0//EN
METHOD:PUBLISH
X-PUBLISHED-TTL:P3D
REFRESH-INTERVAL:P3D
CALSCALE:GREGORIAN
BEGIN:VEVENT
DTSTART:20151208T220000Z
DTEND:20151209T010000Z
X-MICROSOFT-CDO-ALLDAYEVENT:FALSE
SUMMARY:Autumn Glen Senior Lving First Floor Memory Care Grand Opening
DESCRIPTION:Join us for First Floor Memory Care Grand Opening!\n\nTour our model Respite Apartment\n\nLearn the benefits of Healthsense Health and Safety Technology\n\nEnjoy refreshments\, entertainment and enter prize drawing\n\nAutumn Glen Senior Living is professionally managed by Guardian Angels Senior Services
X-ALT-DESC;FMTTYPE=text/html:<p><span style="color:rgb(51\, 51\, 51)\; font-family:arial\,sans-serif\; font-size:10pt">Join us for First Floor Memory Care Grand Opening!<br />\nTour our model Respite Apartment<br />\nLearn the benefits of Healthsense Health and Safety Technology<br />\nEnjoy refreshments\, entertainment and enter prize drawing<br />\nAutumn Glen Senior Living is professionally managed&nbsp\;by Guardian Angels Senior Services</span></p>\n\n<p>&nbsp\;</p>\n
LOCATION:Autumn Glen Senior Living 3715 Coon Rapids Blvd.\, Coon Rapids\, MN
UID:e.380.159853
SEQUENCE:3
DTSTAMP:20260422T222229Z
URL:http://members.metronorthchamber.org/events/details/autumn-glen-senior-lving-first-floor-memory-care-grand-opening-12-08-2015-159853
END:VEVENT

END:VCALENDAR
