BEGIN:VCALENDAR
VERSION:2.0
PRODID:-//ChamberMaster//Event Calendar 2.0//EN
METHOD:PUBLISH
X-PUBLISHED-TTL:P3D
REFRESH-INTERVAL:P3D
CALSCALE:GREGORIAN
BEGIN:VEVENT
DTSTART:20150227T213000Z
DTEND:20150227T223000Z
X-MICROSOFT-CDO-ALLDAYEVENT:FALSE
SUMMARY:Autumn Glen Senior Living Ribbon Cutting
DESCRIPTION:Autumn Glen Senior Living Ribbon Cutting. Ribbon Cutting at 3:30. Speech from the Architect who designed Autumn Glen\, Refreshments will be served.
X-ALT-DESC;FMTTYPE=text/html:Autumn Glen Senior Living Ribbon Cutting. Ribbon Cutting at 3:30. Speech from the Architect who designed Autumn Glen\,&nbsp\;Refreshments will be served.
LOCATION:Autumn Glen Senior Living 3715 Coon Rapids Blvd. NW Coon Rapids\, MN 55433
UID:e.380.153363
SEQUENCE:3
DTSTAMP:20260423T131207Z
URL:http://members.metronorthchamber.org/events/details/autumn-glen-senior-living-ribbon-cutting-02-27-2015-153363
END:VEVENT

END:VCALENDAR
