BEGIN:VCALENDAR
VERSION:2.0
PRODID:-//ChamberMaster//Event Calendar 2.0//EN
METHOD:PUBLISH
X-PUBLISHED-TTL:P3D
REFRESH-INTERVAL:P3D
CALSCALE:GREGORIAN
BEGIN:VEVENT
DTSTART:20160521T133000Z
DTEND:20160521T153000Z
X-MICROSOFT-CDO-ALLDAYEVENT:FALSE
SUMMARY:Autumn Glen Senior Living Pancake Breakfast!
DESCRIPTION:Join us for a great pancake breakfast\, support Coon Rapids High School Theater and tour AUTUMN GLEN!
X-ALT-DESC;FMTTYPE=text/html:<span style="color:rgb(75\, 79\, 86)\; font-family:helvetica\,arial\,sans-serif\; font-size:14px">Join us for a great pancake breakfast\, support Coon Rapids High School Theater and tour AUTUMN GLEN!</span><br />\n&nbsp\;
LOCATION:3715 Coon Rapids Blvd\, Coon Rapids MN 55433
UID:e.380.168431
SEQUENCE:3
DTSTAMP:20260422T120929Z
URL:http://members.metronorthchamber.org/events/details/autumn-glen-senior-living-pancake-breakfast-05-21-2016-168431
END:VEVENT

END:VCALENDAR
