BEGIN:VCALENDAR
VERSION:2.0
PRODID:-//ChamberMaster//Event Calendar 2.0//EN
METHOD:PUBLISH
X-PUBLISHED-TTL:P3D
REFRESH-INTERVAL:P3D
CALSCALE:GREGORIAN
BEGIN:VEVENT
DTSTART:20160615T220000Z
DTEND:20160616T000000Z
X-MICROSOFT-CDO-ALLDAYEVENT:FALSE
SUMMARY:Autumn Glen Senior Living Open House
DESCRIPTION:Please join us for these summer open house events!\n\n\n\nWednesday\, June 15th 5:00pm-7:00pm\n\n\n\nSunday\, June 26th 1:30-3:30pm\n\n\n\nThursday\, June 30th 4:30-6:30pm\n\n\n\nCome in for a tour! Register for door prizes and refreshments served!\n\n\n\nApartment Living-Assisted Living-Memory Care \n\n\n\nRSVP's appreciated to Kathy @ 763-772-4492
X-ALT-DESC;FMTTYPE=text/html:<div>\n<div><span style="font-family:inherit">Please join us for these summer open house events!</span></div>\n</div>\n\n<div>\n<div><span style="font-family:inherit">Wednesday\, June 15th 5:00pm-7:00pm</span></div>\n</div>\n\n<div>\n<div><span style="font-family:inherit">Sunday\, June 26th 1:30-3:30pm</span></div>\n</div>\n\n<div>\n<div><span style="font-family:inherit">Thursday\, June 30th 4:30-6:30pm</span></div>\n</div>\n\n<div>\n<div><span style="font-family:inherit">Come in for a tour! Register for door prizes and refreshments served!</span></div>\n</div>\n\n<div>\n<div><span style="font-family:inherit">Apartment Living-Assisted Living-Memory Care </span></div>\n</div>\n\n<div>\n<div><span style="font-family:inherit">RSVP&#39\;s appreciated to Kathy @ 763-772-4492</span></div>\n</div>\n
LOCATION:Autumn Glen Senior Living 3715 Coon Rapids Blvd NW Coon Rapids Mn 55433
UID:e.380.168475
SEQUENCE:3
DTSTAMP:20260422T103419Z
URL:http://members.metronorthchamber.org/events/details/autumn-glen-senior-living-open-house-06-15-2016-168475
END:VEVENT

END:VCALENDAR
