BEGIN:VCALENDAR
VERSION:2.0
PRODID:-//ChamberMaster//Event Calendar 2.0//EN
METHOD:PUBLISH
X-PUBLISHED-TTL:P3D
REFRESH-INTERVAL:P3D
CALSCALE:GREGORIAN
BEGIN:VEVENT
DTSTART:20150929T220000Z
DTEND:20150930T000000Z
X-MICROSOFT-CDO-ALLDAYEVENT:FALSE
SUMMARY:Autumn Glen Senior Living-Memory Care OPEN HOUSE
DESCRIPTION:Join us for refreshments and see our Healthsense health and safety monitoring demonstration.  Learn the benefit of having your loved-ones health and wellness needs provided for and the advantage of this stare-of-the-art technology.  This is one of the many reasons families choose Autumn Glen!
X-ALT-DESC;FMTTYPE=text/html:<p><span style="color:rgb(51\, 51\, 51)\; font-family:arial\,sans-serif\; font-size:10pt">Join us for refreshments and see our Healthsense health and safety monitoring demonstration.&nbsp\; Learn the benefit of having your loved-ones health and wellness needs provided for and the advantage of this stare-of-the-art technology.&nbsp\; <em>This is one of the many reasons families choose Autumn Glen!</em></span></p>\n
LOCATION:3715 Coon Rapids Blvd NW\, Coon Rapids\, MN
UID:e.380.159600
SEQUENCE:3
DTSTAMP:20260423T030432Z
URL:http://members.metronorthchamber.org/events/details/autumn-glen-senior-living-memory-care-open-house-09-29-2015-159600
END:VEVENT

END:VCALENDAR
