BEGIN:VCALENDAR
VERSION:2.0
PRODID:-//ChamberMaster//Event Calendar 2.0//EN
METHOD:PUBLISH
X-PUBLISHED-TTL:P3D
REFRESH-INTERVAL:P3D
CALSCALE:GREGORIAN
BEGIN:VEVENT
DTSTART:20150731T140000Z
DTEND:20150901T020000Z
X-MICROSOFT-CDO-ALLDAYEVENT:FALSE
SUMMARY:August Gun of the Month: Howa Lightning\, includes: Nikko Stirling Panamax 3-9x40 Optic. Sale price $449.00\, valid August 1-31\, 2015. Available in 243\, 270\, and 30-06 calibers. Sign Up IN STORE to Win a FREE Howa Lightning!
DESCRIPTION:August Gun of the Month: Howa Lightning\, includes: Nikko Stirling Panamax 3-9x40 Optic. \n\nSale price $449.00\, valid August 1-31\, 2015.\n\nAvailable in 243\, 270\, and 30-06 calibers.\n\nSign Up IN STORE to Win a FREE Howa Lightning!\n\nManufactured by the same company that supplies the Vanguard rifles for Weatherby\, the Howa M-1500 Lightning is a rugged\, all-weather firearm perfect for hunting in rain and Minnesota winters.The famous Howa action has a one-piece forged stainless bolt with three large lugs for durability and increased safety.\n\nBill's Gun Shop has paired this rifle with a Nikko Stirling Panamax 3-9x40 scope\, mounted and ready to hunt.This scope features a wider field of view - 20% more than most 1" tube scopes   and is backed by a Limited Lifetime Warranty.\n\nJoin Our Mailing List to find out how to Win A FREE Gun Every Month! \n\nOnly at Bill's Gun Shop & Range Locations!
X-ALT-DESC;FMTTYPE=text/html:<span style="font-family:verdana\,geneva\; font-size:12pt"><strong>August Gun of the Month</strong>: Howa Lightning\, includes: Nikko Stirling Panamax 3-9x40 Optic. </span>\n\n<p><span style="font-family:verdana\,geneva\; font-size:12pt">Sale price $449.00\, valid August 1-31\, 2015.</span></p>\n\n<p><span style="font-family:verdana\,geneva\; font-size:12pt">Available in 243\, 270\, and 30-06 calibers.</span></p>\n\n<p><span style="font-family:verdana\,geneva\; font-size:12pt"><span style="font-family:verdana\,geneva\; font-size:12pt">Sign Up IN STORE to Win a <strong>FREE</strong> <span style="font-family:verdana\,geneva\; font-size:12pt">Howa Lightning</span>!</span></span></p>\n\n<p><span style="font-size:12pt"><span style="font-family:verdana\,sans-serif">Manufactured by the same company that supplies the Vanguard rifles for Weatherby\, the Howa M-1500 Lightning is a rugged\, all-weather firearm perfect for hunting in rain and Minnesota winters.The famous Howa action has a one-piece forged stainless bolt with three large lugs for durability and increased safety.</span></span></p>\n\n<p><span style="font-size:12pt"><span style="font-family:verdana\,sans-serif">Bill&rsquo\;s Gun Shop has paired this rifle with a Nikko Stirling Panamax 3-9x40 scope\, mounted and ready to hunt.This scope features a wider field of view - 20% more than most 1&rdquo\; tube scopes &ndash\; and is backed by a Limited Lifetime Warranty.</span></span></p>\n\n<p><span style="font-family:verdana\,geneva"><span style="font-size:12pt">Join Our Mailing List to find out how to <strong><a href="https://www.billsgs.com/join-our-mailing-list" target="_blank" title="Join Our Mailing List!">Win A FREE Gun Every Month</a></strong></span><span style="font-size:12pt">! </span></span></p>\n\n<p><span style="font-family:verdana\,geneva"><span style="font-size:12pt">Only at <a href="https://www.billsgs.com/billsgs-locations" target="_self" title="Bill's Gun Shop &amp\; Range Locations">Bill&#39\;s Gun Shop &amp\; Range Locations</a>!</span></span></p>\n
LOCATION:Open 9am to 9pm 7 days a week! 4080 West Broadway Avenue\, Robbinsdale\, MN 55422 Telephone: 763-533-9594 FAX: 763-533-2997 3621 88th Avenue North East\, Circle Pines\, MN 55014 Telephone: 763-792-4867 FAX: 763-784-7648 1920 Crest View Drive Hudson\, WI 54016 Telephone: 715-690-1198 FAX: 715-220-4019 Opening October 1\, 2015 in Fargo\, ND! 1040 35th Street North\, Fargo\, ND 58102 Telephone: 701-353-8748 FAX: 701-353-8749
UID:e.380.158116
SEQUENCE:3
DTSTAMP:20260423T055653Z
URL:http://members.metronorthchamber.org/events/details/august-gun-of-the-month-howa-lightning-includes-nikko-stirling-panamax-3-9x40-optic-sale-price-449-00-valid-august-1-31-2015-available-in-243-270-and-30-06-calibers-sign-up-in-store-to-win-a-free-howa-lightning-07-31-2015-158116
END:VEVENT

END:VCALENDAR
