BEGIN:VCALENDAR
VERSION:2.0
PRODID:-//ChamberMaster//Event Calendar 2.0//EN
METHOD:PUBLISH
X-PUBLISHED-TTL:P3D
REFRESH-INTERVAL:P3D
CALSCALE:GREGORIAN
BEGIN:VEVENT
DTSTART:20130417T123000Z
DTEND:20130417T150000Z
X-MICROSOFT-CDO-ALLDAYEVENT:FALSE
SUMMARY:Attention: Business Owners and Leaders
DESCRIPTION:Learn to Hit Your Marketing Sweet Spot .EVERYTIME!\n\n\n\nWhile it's true the economy is going to fluctuate and things are going to happen which will make business difficult\, but that is not surprising\, is it?  There are businesses thriving at the moment.  What are they doing that others aren't?  It is at times like this the proactive businesses are going to stand out from the norm.  The question is:  Do you want to be part of the norm or at the top of your league?\n\n\n\n        Understand the Who\, Where\, What\, Why\, and How's of Marketing \n\n        Turn your marketing into a guaranteed investment \n\n        The effectiveness of understanding key personality traits \n\n        Understand the 5 Factors to Massive Profits \n\n\n\nJust one idea can change your business....forever!!
X-ALT-DESC;FMTTYPE=text/html:<br />\n<span style="font-size:18px\;"><strong><em><span style="color:black\;"><span style="font-family:arial narrow\,sans-serif\;">Learn to Hit Your Marketing Sweet Spot&hellip\;.EVERYTIME!</span></span></em></strong></span><br />\n<br />\n<span style="font-size:16px\;"><b><span style="line-height: 115%\; font-family: 'Arial Narrow'\, sans-serif\; color: rgb(127\, 127\, 127)\;">While it&rsquo\;s true the economy is going to fluctuate and things are going to happen which will make business difficult\, but that is not surprising\, is it?&nbsp\; There are businesses </span><span style="line-height: 115%\; font-family: 'Copperplate Gothic Bold'\, sans-serif\; color: rgb(64\, 64\, 64)\;">thriving</span><span style="line-height: 115%\; font-family: 'Arial Narrow'\, sans-serif\; color: rgb(127\, 127\, 127)\;"> at the moment.&nbsp\; What are they doing that others aren&rsquo\;t?&nbsp\; It is at times like this the </span><span style="line-height: 115%\; font-family: 'Copperplate Gothic Bold'\, sans-serif\; color: rgb(64\, 64\, 64)\;">proactive</span><span style="line-height: 115%\; font-family: 'Arial Narrow'\, sans-serif\; color: rgb(127\, 127\, 127)\;"> businesses are going to </span><span style="line-height: 115%\; font-family: 'Copperplate Gothic Bold'\, sans-serif\; color: rgb(64\, 64\, 64)\;">stand out</span><span style="line-height: 115%\; font-family: 'Arial Narrow'\, sans-serif\; color: rgb(127\, 127\, 127)\;"> from the norm.&nbsp\; The question is:&nbsp\; Do you want to be part of the norm or at the </span><span style="line-height: 115%\; font-family: 'Copperplate Gothic Bold'\, sans-serif\; color: rgb(64\, 64\, 64)\;">top of your league</span><span style="line-height: 115%\; font-family: 'Arial Narrow'\, sans-serif\; color: rgb(127\, 127\, 127)\;">?</span></b></span><br />\n<br />\n<span style="font-size:18px\;"><span style="font-size:16px\;"><span style="color:#262626\;"><span style="font-family:symbol\;">&middot\;&nbsp\;&nbsp\;&nbsp\;&nbsp\;&nbsp\;&nbsp\; </span></span><span style="color:#262626\;"><span style="font-family:arial narrow\,sans-serif\;">Understand the Who\, Where\, What\, Why\, and How&rsquo\;s of Marketing&hellip\;</span></span><br />\n<span style="color:#262626\;"><span style="font-family:symbol\;">&middot\;&nbsp\;&nbsp\;&nbsp\;&nbsp\;&nbsp\;&nbsp\; </span></span><span style="color:#262626\;"><span style="font-family:arial narrow\,sans-serif\;">Turn your marketing into a guaranteed investment&hellip\;</span></span><br />\n<span style="color:#262626\;"><span style="font-family:symbol\;">&middot\;&nbsp\;&nbsp\;&nbsp\;&nbsp\;&nbsp\;&nbsp\; </span></span><span style="color:#262626\;"><span style="font-family:arial narrow\,sans-serif\;">The effectiveness of understanding key personality traits&hellip\;</span></span><br />\n<span style="color:#262626\;"><span style="font-family:symbol\;">&middot\;&nbsp\;&nbsp\;&nbsp\;&nbsp\;&nbsp\;&nbsp\; </span></span></span><span style="color:#262626\;"><span style="font-family:arial narrow\,sans-serif\;"><span style="font-size:16px\;">Understand the 5 Factors to Massive Profits&hellip\;</span><br />\n<br />\nJust one idea can change your business....forever!!&nbsp\;</span></span></span><br />\n<br />\n
LOCATION:ActionCOACH MetroNorth Office 6575 - 141st Ave NW\, Suite 100 Ramsey\, MN
UID:e.380.148658
SEQUENCE:3
DTSTAMP:20260425T002407Z
URL:http://members.metronorthchamber.org/events/details/attention-business-owners-and-leaders-04-17-2013-148658
END:VEVENT

END:VCALENDAR
