BEGIN:VCALENDAR
VERSION:2.0
PRODID:-//ChamberMaster//Event Calendar 2.0//EN
METHOD:PUBLISH
X-PUBLISHED-TTL:P3D
REFRESH-INTERVAL:P3D
CALSCALE:GREGORIAN
BEGIN:VEVENT
DTSTART:20150218T170000Z
DTEND:20150218T180000Z
X-MICROSOFT-CDO-ALLDAYEVENT:FALSE
SUMMARY:At the Beach Tanning Remodel Reveal
DESCRIPTION:At the Beach Tanning\, located in Northway Shopping Center in Circle Pines\, Minn.\, will be hosting a Remodel Reveal on Wednesday\, February 18 at 11 a.m. to show off its recent renovations.\n\n \n\nAt the Beach Tanning underwent renovations in October to enhance the appearance of the salon and upgrade the equipment. The lobby\, product wall located in the front of the salon and all 19 of the tanning rooms received a complete makeover. In addition to the structural renovations\, the tanning salon also installed cutting-edge tanning beds. When John and Monique Bailey opened At the Beach Tanning in 1999 as a family-run business\, they had a customer base of zero and only six standard tanning beds. Now they have 17 multi-level tanning units to fulfill the needs of all 18\,000 of their customers and a spray tanning system that will be installed and ready for use in the coming weeks.\n\n \n\n"We are excited to reveal our renovations to the public and we hope that the interior upgrades\, advanced tanning beds and spray tanning will expand not only our customer base\, but our potential for growth as well\," said Monique Bailey\, co-owner of the tanning salon.\n\n \n\nIn celebration of the renovations and upgraded equipment\, At the Beach Tanning will be offering numerous specials from February 18   22. The specials include a 50 percent discount on all bottles of tanning lotion that cost $50 or more\, a free upgrade to any new tanning bed and a one month unlimited tanning package for the new Big Red Turbo tanning bed\, which contains 400 watt facial bulbs\, for only $60.\n\n \n\nFurther information about At the Beach Tanning can be found on the tanning salon's Facebook page.
X-ALT-DESC;FMTTYPE=text/html:<span style="color: black\;"><span style="font-family: calibri\;"><span style="font-size: 10pt\;">At the Beach Tanning\, located in Northway Shopping Center in Circle Pines\, Minn.\, will be hosting a Remodel Reveal on Wednesday\, February 18 at 11 a.m. to show off its recent renovations.</span></span></span><br />\n&nbsp\;<br />\n<span style="color: black\;"><span style="font-family: calibri\;"><span style="font-size: 10pt\;">At the Beach Tanning underwent renovations in October to enhance the appearance of the salon and upgrade the equipment. The lobby\, product wall located in the front of the salon and all 19 of the tanning rooms received a complete makeover. In addition to the structural renovations\, the tanning salon also installed cutting-edge tanning beds. When John and Monique Bailey opened At the Beach Tanning in 1999 as a family-run business\, they had a customer base of zero and only six standard tanning beds. Now they have 17 multi-level tanning units to fulfill the needs of all 18\,000 of their customers and a spray tanning system that will be installed and ready for use in the coming weeks.</span></span></span><br />\n&nbsp\;<br />\n<span style="color: black\;"><span style="font-family: calibri\;"><span style="font-size: 10pt\;">&ldquo\;We are excited to reveal our renovations to the public and we hope that the interior upgrades\, advanced tanning beds and spray tanning will expand not only our customer base\, but our potential for growth as well\,&rdquo\; said Monique Bailey\, co-owner of the tanning salon.</span></span></span><br />\n&nbsp\;<br />\n<span style="color: black\;"><span style="font-family: calibri\;"><span style="font-size: 10pt\;">In celebration of the renovations and upgraded equipment\, At the Beach Tanning will be offering numerous specials from February 18 &ndash\; 22. The specials include a 50 percent discount on all bottles of tanning lotion that cost $50 or more\, a free upgrade to any new tanning bed and a one month unlimited tanning package for the new Big Red Turbo tanning bed\, which contains 400 watt facial bulbs\, for only $60.</span></span></span><br />\n&nbsp\;<br />\n<span style="color: black\;"><span style="font-family: calibri\;"><span style="font-size: 10pt\;">Further information about At the Beach Tanning can be found on the tanning salon&rsquo\;s </span></span></span><a href="https://www.facebook.com/pages/At-the-Beach-Tanning-in-Circle-Pines/303753009649180"><span style="font-family: calibri\;"><span style="font-size: 10pt\;">Facebook page</span></span></a><span style="color: black\;"><span style="font-family: calibri\;"><span style="font-size: 10pt\;">.</span></span></span>
LOCATION:9145 South Highway Drive\, Lexington\, MN\, 55014
UID:e.380.155898
SEQUENCE:3
DTSTAMP:20260423T130736Z
URL:http://members.metronorthchamber.org/events/details/at-the-beach-tanning-remodel-reveal-02-18-2015-155898
END:VEVENT

END:VCALENDAR
