BEGIN:VCALENDAR
VERSION:2.0
PRODID:-//ChamberMaster//Event Calendar 2.0//EN
METHOD:PUBLISH
X-PUBLISHED-TTL:P3D
REFRESH-INTERVAL:P3D
CALSCALE:GREGORIAN
BEGIN:VEVENT
DTSTART:20150918T140000Z
DTEND:20150918T141500Z
X-MICROSOFT-CDO-ALLDAYEVENT:FALSE
SUMMARY:Ascender Professional Coaching - Ribbon Cutting
DESCRIPTION:This ribbon cutting is to celebrate the new membership of Ascender Professional Coaching to the MetorNorth Chamber.\n\n\n\nIt will be held immediately following the Third Friday Sunrise Breakfast meeting on September 18\, at 9:00 a.m.
X-ALT-DESC;FMTTYPE=text/html:This ribbon cutting is to celebrate the new membership of Ascender Professional Coaching to the MetorNorth Chamber.<br />\n<br />\nIt will be held immediately following the Third Friday Sunrise Breakfast meeting on September 18\, at 9:00 a.m.&nbsp\;
LOCATION:Moe's Restaurant in Mounds View. 2400 Highway 10 Mounds View.
UID:e.380.159552
SEQUENCE:3
DTSTAMP:20260423T030104Z
URL:http://members.metronorthchamber.org/events/details/ascender-professional-coaching-ribbon-cutting-09-18-2015-159552
END:VEVENT

END:VCALENDAR
