BEGIN:VCALENDAR
VERSION:2.0
PRODID:-//ChamberMaster//Event Calendar 2.0//EN
METHOD:PUBLISH
X-PUBLISHED-TTL:P3D
REFRESH-INTERVAL:P3D
CALSCALE:GREGORIAN
BEGIN:VEVENT
DTSTART:20170709T150000Z
DTEND:20170709T210000Z
X-MICROSOFT-CDO-ALLDAYEVENT:FALSE
SUMMARY:Art in the Park
DESCRIPTION:Art in the Park:\n\nArt Fair at Elmcrest Park\n\nJoin the City of Ramsey for its first annual art fair\, where community members and visitors will be able to share and enjoy the arts. This free event will also feature local food vendors\, artist demos (includes marble making\, pottery\, and more)\, and introductory art classes.\n\nIntroductory art classes are free for everyone! These 45-minute classes will occur at 11:00am\, 1:00pm\, and 3:00pm and will be led by Rumriver Art Center staff.\n\nVote on your favorite artists for their chance to win a grand prize of $200 for the "People's Choice Award." And you have the chance to win your favorite artists work! Raffle tickets will be for sale at the art fair for $2 each\, you do not have to be present to win. Winners will be announced on Sunday\, July 9\, at 3:30 pm.
X-ALT-DESC;FMTTYPE=text/html:Art in the Park:<br />\nArt Fair at Elmcrest Park<br />\nJoin the City of Ramsey for its first annual art fair\, where community members and visitors will be able to share and enjoy the arts. This free event will also feature local food vendors\, artist demos (includes marble making\, pottery\, and more)\, and introductory art classes.<br />\nIntroductory art classes are free for everyone! These 45-minute classes will occur at 11:00am\, 1:00pm\, and 3:00pm and will be led by Rumriver Art Center staff.<br />\nVote on your favorite artists for their chance to win a grand prize of $200 for the &ldquo\;People&rsquo\;s Choice Award.&rdquo\; And you have the chance to win your favorite artists work! Raffle tickets will be for sale at the art fair for $2 each\, you do not have to be present to win. Winners will be announced on Sunday\, July 9\, at 3:30 pm.
LOCATION:Elmcrest Park 16303 Quicksilver Street NW Ramsey\, MN 55303
UID:e.380.175136
SEQUENCE:3
DTSTAMP:20260421T121432Z
URL:http://members.metronorthchamber.org/events/details/art-in-the-park-175136
END:VEVENT

END:VCALENDAR
