BEGIN:VCALENDAR
VERSION:2.0
PRODID:-//ChamberMaster//Event Calendar 2.0//EN
METHOD:PUBLISH
X-PUBLISHED-TTL:P3D
REFRESH-INTERVAL:P3D
CALSCALE:GREGORIAN
BEGIN:VEVENT
DTSTART:20130908T150000Z
DTEND:20130908T210000Z
X-MICROSOFT-CDO-ALLDAYEVENT:FALSE
SUMMARY:Art at Rice Creek Presented by Banfill-Locke Center for the Arts
DESCRIPTION:This annual art festival takes place in beautiful Manomin Park\, adjacent to the Banfill Tavern\, as well as inside the historic building.\n\n	 \n\n	Performances by the Chinese Dance Theater\, Lyric Performing Arts\, the Prairie Fire Lady Choir\, LadyJ Griot and Her Root Doctors and the Fridley City Band! Readings by Andy Sturdevant and William Waltz. 16 artist vendors. Artist Demos and workshops. A scavenger hunt in the building. Ice Cream from Grandpa's Ice Cream and snacks from Little G's Pizzeria. Fun for everyone!\n\n	 \n\n	Email info@banfill-locke.org with any questions or check the website at www.banfill-locke.org.
X-ALT-DESC;FMTTYPE=text/html:<div>\n	This annual art festival takes place in beautiful Manomin Park\, adjacent to the Banfill Tavern\, as well as inside the historic building.</div>\n<div>\n	&nbsp\;</div>\n<div>\n	Performances by the Chinese Dance Theater\, Lyric Performing Arts\, the Prairie Fire Lady Choir\, LadyJ Griot and Her Root Doctors and the Fridley City Band! Readings by Andy Sturdevant and William Waltz. 16 artist vendors. Artist Demos and workshops. A scavenger hunt in the building. Ice Cream from Grandpa&#39\;s Ice Cream and snacks from Little G&#39\;s Pizzeria. Fun for everyone!</div>\n<div>\n	&nbsp\;</div>\n<div>\n	Email <u><a href="mailto:info@banfill-locke.org?subject=Art%20at%20Rice%20Creek"><span style="color:#0000ff\;">info@banfill-locke.org</span></a></u> with any questions or check the website at <a href="http://www.banfill-locke.org"><span style="color:#0000ff\;"><u>www.banfill-locke.org</u></span></a>.&nbsp\;</div>\n
LOCATION:Banfill-Locke Center for the Arts\, 6666 East River Road\, Fridley\, MN 55432
UID:e.380.149462
SEQUENCE:3
DTSTAMP:20260424T162552Z
URL:http://members.metronorthchamber.org/events/details/art-at-rice-creek-presented-by-banfill-locke-center-for-the-arts-09-08-2013-149462
END:VEVENT

END:VCALENDAR
