BEGIN:VCALENDAR
VERSION:2.0
PRODID:-//ChamberMaster//Event Calendar 2.0//EN
METHOD:PUBLISH
X-PUBLISHED-TTL:P3D
REFRESH-INTERVAL:P3D
CALSCALE:GREGORIAN
BEGIN:VEVENT
DTSTART:20120815T123000Z
DTEND:20120815T150000Z
X-MICROSOFT-CDO-ALLDAYEVENT:FALSE
SUMMARY:Are You Mastering the Game of Business?
DESCRIPTION:Learn How to Consistently Have Your Business Work for YOU\n\n\n\nBusiness\, like chess\, is not a passive game\; they are both a game of high performance\, competitive strategy\, and teamwork. "Chance" plays little or no role. So why is it that we seem to go day to day putting out fires rather than taking time to strategically set up our business for success?\n\n\n\nWhile it is critical to live in the present to deal with the current needs of our business\, it is also crucial to be thinking three moves ahead. How do we stop the cycle of being pulled so deep into the technical side of the business that we stop seeing the big picture of where we want our business to go?\n\n\n\nThe 6 Steps are the building blocks of creating a business that the owner can ultimately work on and not in. Each rung of the ladder   Mastery\, Niche\, Leverage\, Team\, Synergy and Results   are dependent on one another and each works to propel the other forward.\n\n\n\nNot sure what direction to move?\n\nBy attending this workshop\, you will know where your business is at on the ladder helping you to move forward....\n\n\n\n  Move from a place of chaos to control...\n\n  Know what factors drive profit and what numbers to measure...\n\n  Operate from a position where it's not about price competition...\n\n  How to leverage systems to operate your business with or without you...\n\n  Learn what it takes to build a winning team... And MORE!\n\n\n\nRegister Now!
X-ALT-DESC;FMTTYPE=text/html:Learn How to Consistently Have Your Business Work for YOU<br />\n<br />\nBusiness\, like chess\, is not a passive game\; they are both a game of high performance\, competitive strategy\, and teamwork. &ldquo\;Chance&rdquo\; plays little or no role. So why is it that we seem to go day to day putting out fires rather than taking time to strategically set up our business for success?<br />\n<br />\nWhile it is critical to live in the present to deal with the current needs of our business\, it is also crucial to be thinking three moves ahead. How do we stop the cycle of being pulled so deep into the technical side of the business that we stop seeing the big picture of where we want our business to go?<br />\n<br />\nThe 6 Steps are the building blocks of creating a business that the owner can ultimately work on and not in. Each rung of the ladder &ndash\; Mastery\, Niche\, Leverage\, Team\, Synergy and Results &ndash\; are dependent on one another and each works to propel the other forward.<br />\n<br />\nNot sure what direction to move?<br />\nBy attending this workshop\, you will know where your business is at on the ladder helping you to move forward....<br />\n<br />\n&bull\; Move from a place of chaos to control...<br />\n&bull\; Know what factors drive profit and what numbers to measure...<br />\n&bull\; Operate from a position where it&rsquo\;s not about price competition...<br />\n&bull\; How to leverage systems to operate your business with or without you...<br />\n&bull\; Learn what it takes to build a winning team... And MORE!<br />\n<br />\nRegister Now!<br />\n<br />\n&nbsp\;<br />\n
LOCATION:ActionCOACH MetroNorth Offices
UID:e.380.146193
SEQUENCE:3
DTSTAMP:20260425T125729Z
URL:http://members.metronorthchamber.org/events/details/are-you-mastering-the-game-of-business-08-15-2012-146193
END:VEVENT

END:VCALENDAR
