BEGIN:VCALENDAR
VERSION:2.0
PRODID:-//ChamberMaster//Event Calendar 2.0//EN
METHOD:PUBLISH
X-PUBLISHED-TTL:P3D
REFRESH-INTERVAL:P3D
CALSCALE:GREGORIAN
BEGIN:VEVENT
DTSTART;VALUE=DATE:20160401
DTEND;VALUE=DATE:20160501
TRANSP:TRANSPARENT
X-MICROSOFT-CDO-ALLDAYEVENT:TRUE
SUMMARY:April GOTM: H&K VP9
DESCRIPTION:April Gun of the Month - H&K VP9\n\nApril 1-30\, 2016\, on in stock items only. \n\nEnter in store to win a FREE H&K VP9!\n\n*FREE rental fee on H&K VP9 all month long! Try it before you buy it!\n\n*Ammo not included.\n\n\n\nApril 1\, 2 & 3    Shooter Show\n\nApril 18     Tax Special - No Tax on ALL Purchases\n\nApril 21\, 22\, 23 & 24     DNR Hunter Safety  \n\n \n\nJoin Our Mailing List to find out how to Win A FREE Gun Every Month! \n\n Only at Bill's Gun Shop & Range Locations!\n\n Review of the H&K VP9  by the Average Joe\n\n "The Hk VP9 debuted last year with rave reviews that were well deserved.  After the success of their hammer-fired P30\, Hk spent about four years developing the VP9..."
X-ALT-DESC;FMTTYPE=text/html:<p><span style="font-family:verdana\,geneva\; font-size:12pt"><strong>April Gun of the Month - H&amp\;K VP9</strong></span></p>\n\n<p><span style="font-family:verdana\,geneva"><span style="font-size:12pt">April 1-30\, 2016\, on in stock items only. </span></span></p>\n\n<p><span style="font-family:verdana\,geneva"><span style="font-size:12pt">Enter in store to win a FREE H&amp\;K VP9!</span></span></p>\n\n<p><span style="font-family:verdana\,geneva\; font-size:12pt">*FREE rental fee on H&amp\;K VP9 all month long! Try it before you buy it!</span></p>\n\n<p><span style="font-family:verdana\,geneva\; font-size:12pt"><span style="font-family:verdana\,geneva\; font-size:12pt">*Ammo not included.</span></span><br />\n<br />\n<span style="font-family:verdana\,geneva"><span style="font-size:12pt"><span style="font-family:verdana\,geneva"><span style="font-size:12pt"><strong><span style="font-family:verdana\,geneva\; font-size:12pt"><span style="font-family:verdana\,geneva\; font-size:12pt">April 1\, 2 &amp\; 3</span></span></strong></span></span></span></span><span style="font-family:verdana\,geneva"><span style="font-size:12pt"><strong><span style="font-family:verdana\,geneva\; font-size:12pt"><span style="font-family:verdana\,geneva\; font-size:12pt"><span style="font-family:verdana\,geneva"><span style="font-size:12pt"><span style="font-family:verdana\,geneva\; font-size:12pt"><span style="font-family:verdana\,geneva\; font-size:12pt"> </span></span></span></span></span></span></strong><span style="font-family:verdana\,geneva"><span style="font-size:12pt"><strong><span style="font-family:verdana\,geneva\; font-size:12pt"><span style="font-family:verdana\,geneva\; font-size:12pt"> &middot\; </span></span><span style="font-family:verdana\,geneva\; font-size:12pt"><span style="font-family:verdana\,geneva\; font-size:12pt">Shooter Show</span></span></strong></span></span></span></span></p>\n\n<p><span style="font-family:verdana\,geneva"><span style="font-size:12pt"><span style="font-family:verdana\,geneva"><span style="font-size:12pt"><span style="font-family:verdana\,geneva"><span style="font-size:12pt"><strong><span style="font-family:verdana\,geneva\; font-size:12pt"><span style="font-family:verdana\,geneva\; font-size:12pt">April 18 <span style="font-family:verdana\,geneva"><span style="font-size:12pt"><span style="font-family:verdana\,geneva"><span style="font-size:12pt"><span style="font-family:verdana\,geneva\; font-size:12pt"><span style="font-family:verdana\,geneva\; font-size:12pt"><span style="font-family:verdana\,geneva"><span style="font-size:12pt"><span style="font-family:verdana\,geneva\; font-size:12pt"><span style="font-family:verdana\,geneva\; font-size:12pt"> </span></span></span></span></span></span><span style="font-family:verdana\,geneva"><span style="font-size:12pt"><span style="font-family:verdana\,geneva\; font-size:12pt"><span style="font-family:verdana\,geneva\; font-size:12pt"> &middot\;</span></span><span style="font-family:verdana\,geneva\; font-size:12pt"><span style="font-family:verdana\,geneva\; font-size:12pt"> Tax Special - No Tax on ALL Purchases</span></span></span></span></span></span></span></span></span></span></strong></span></span></span></span></span></span></p>\n\n<p><span style="font-family:verdana\,geneva\; font-size:12pt"><span style="font-family:verdana\,geneva"><span style="font-size:12pt"><span style="font-family:verdana\,geneva"><span style="font-size:12pt"><span style="font-family:verdana\,geneva"><span style="font-size:12pt"><strong><span style="font-family:verdana\,geneva\; font-size:12pt"><span style="font-family:verdana\,geneva\; font-size:12pt"><span style="font-family:verdana\,geneva"><span style="font-size:12pt"><span style="font-family:verdana\,geneva"><span style="font-size:12pt"><span style="font-family:verdana\,geneva"><span style="font-size:12pt"><span style="font-family:verdana\,geneva\; font-size:12pt"><span style="font-family:verdana\,geneva\; font-size:12pt">April 21\, 22\, 23 &amp\; 24<span style="font-family:verdana\,geneva"><span style="font-size:12pt"><span style="font-family:verdana\,geneva"><span style="font-size:12pt"><span style="font-family:verdana\,geneva"><span style="font-size:12pt"><strong><span style="font-family:verdana\,geneva\; font-size:12pt"><span style="font-family:verdana\,geneva\; font-size:12pt"> <span style="font-family:verdana\,geneva"><span style="font-size:12pt"><span style="font-family:verdana\,geneva"><span style="font-size:12pt"><span style="font-family:verdana\,geneva\; font-size:12pt"><span style="font-family:verdana\,geneva\; font-size:12pt"><span style="font-family:verdana\,geneva"><span style="font-size:12pt"><span style="font-family:verdana\,geneva\; font-size:12pt"><span style="font-family:verdana\,geneva\; font-size:12pt"> </span></span></span></span></span></span><span style="font-family:verdana\,geneva"><span style="font-size:12pt"><span style="font-family:verdana\,geneva\; font-size:12pt"><span style="font-family:verdana\,geneva\; font-size:12pt"> &middot\;</span></span><span style="font-family:verdana\,geneva\; font-size:12pt"><span style="font-family:verdana\,geneva\; font-size:12pt"> </span></span></span></span></span></span></span></span></span></span></strong></span></span></span></span></span></span>DNR Hunter Safety&nbsp\; </span></span></span></span></span></span></span></span></span></span></strong></span></span></span></span></span></span><br />\n<u>&nbsp\;</u></span></p>\n\n<p><span style="font-family:verdana\,geneva\; font-size:12pt">Join Our Mailing List to find out how to <strong><a href="https://www.billsgs.com/join-our-mailing-list" target="_blank" title="Join Our Mailing List!">Win A FREE Gun Every Month</a></strong>! </span></p>\n\n<p><span style="font-family:verdana\,geneva\; font-size:12pt">&nbsp\;Only at <a href="https://www.billsgs.com/billsgs-locations" target="_self" title="Bill's Gun Shop &amp\; Range Locations">Bill&#39\;s Gun Shop &amp\; Range Locations</a>!</span></p>\n\n<p><span style="font-family:verdana\,geneva\; font-size:12pt">&nbsp\;<strong>Review of the&nbsp\;<span style="font-family:verdana\,geneva\; font-size:12pt"><strong><strong><strong><span style="font-family:verdana\,geneva\; font-size:12pt"><strong>H&amp\;K VP9</strong></span>&nbsp\; </strong></strong></strong></span>by <em>the Average Joe</em></strong></span></p>\n\n<p><span style="font-family:verdana\,geneva\; font-size:12pt">&nbsp\;&quot\;<span style="font-family:verdana\,sans-serif\; font-size:14pt">The Hk VP9 debuted last year with rave reviews that were well deserved. &nbsp\;After the success of their hammer-fired P30\, Hk spent about four years developing the VP9...</span>&quot\;</span></p>\n\n<div>\n<p>&nbsp\;</p>\n</div>\n
LOCATION:At ALL Bill's Gun Shop & Range Locations: https://www.billsgs.com/billsgs-locations
UID:e.380.167387
SEQUENCE:3
DTSTAMP:20260422T133010Z
URL:http://members.metronorthchamber.org/events/details/april-gotm-h-k-vp9-04-01-2016-167387
END:VEVENT

END:VCALENDAR
