BEGIN:VCALENDAR
VERSION:2.0
PRODID:-//ChamberMaster//Event Calendar 2.0//EN
METHOD:PUBLISH
X-PUBLISHED-TTL:P3D
REFRESH-INTERVAL:P3D
CALSCALE:GREGORIAN
BEGIN:VEVENT
DTSTART:20150916T214500Z
DTEND:20150916T233000Z
X-MICROSOFT-CDO-ALLDAYEVENT:FALSE
SUMMARY:Apps & Apps
DESCRIPTION:The Working With Women Committee and the Grapevine Wine Networking Club have come together to put on an Apps & Apps after hours event.\n\n\n\nCome for great appetizers\, make some connections\, and learn about the newest business apps.
X-ALT-DESC;FMTTYPE=text/html:The Working With Women Committee and the Grapevine Wine Networking Club have come together to put on an Apps &amp\; Apps after hours event.<br />\n<br />\nCome for great appetizers\, make some connections\, and learn about the newest business apps.
LOCATION:Broadway Pizza 8298 University Ave. NE\, Fridley
UID:e.380.157823
SEQUENCE:3
DTSTAMP:20260423T025818Z
URL:http://members.metronorthchamber.org/events/details/apps-apps-09-16-2015-157823
END:VEVENT

END:VCALENDAR
