BEGIN:VCALENDAR
VERSION:2.0
PRODID:-//ChamberMaster//Event Calendar 2.0//EN
METHOD:PUBLISH
X-PUBLISHED-TTL:P3D
REFRESH-INTERVAL:P3D
CALSCALE:GREGORIAN
BEGIN:VEVENT
DTSTART:20171115T150000Z
DTEND:20171115T180000Z
X-MICROSOFT-CDO-ALLDAYEVENT:FALSE
SUMMARY:Apprenticeship Summit
DESCRIPTION:Apprenticeship Summit with Employer Panel & Hiring Event.\n\nEmployer Panel will be E.J. Ajax\, Alliance Machine\,  Research Analyst Specialist and many more.
X-ALT-DESC;FMTTYPE=text/html:Apprenticeship Summit with Employer Panel &amp\; Hiring Event.<br />\nEmployer Panel will be E.J. Ajax\, Alliance Machine\,&nbsp\; Research Analyst Specialist and many more.<br />\n&nbsp\;
LOCATION:Anoka County Workforce Center 1201 89th Avenue NE Suite 235\, Blaine
UID:e.380.179237
SEQUENCE:3
DTSTAMP:20260421T070458Z
URL:http://members.metronorthchamber.org/events/details/apprenticeship-summit-179237
END:VEVENT

END:VCALENDAR
