BEGIN:VCALENDAR
VERSION:2.0
PRODID:-//ChamberMaster//Event Calendar 2.0//EN
METHOD:PUBLISH
X-PUBLISHED-TTL:P3D
REFRESH-INTERVAL:P3D
CALSCALE:GREGORIAN
BEGIN:VEVENT
DTSTART:20170303T000000Z
DTEND:20170303T023000Z
X-MICROSOFT-CDO-ALLDAYEVENT:FALSE
SUMMARY:Anoka-Ramsey Celebration Top 10 Community College in U.S.
DESCRIPTION:Join us and learn more about the reasons why Anoka-Ramsey Community College is named one of the Top 10 Community Colleges in the U.S.  This fun evening is a great opportunity to recognize your business or organization and give back to the students of Anoka-Ramsey Community College.  Your support helps our students thrive so they can continue to pursue their dreams and become our future leaders.\n\n \n\nHelp us celebrate this special recognition on Thursday\, March 2\, 2017 at Bunker Hills Event Center.  Join us for social hour at 6pm\, followed by a plated dinner\, live music by our Music Faculty Jazz Ensemble and some outstanding speakers.\n\n \n\nThe majority of our students apply for scholarships due to their financial stress while balancing their higher education\, family and work.  Your donation will go directly to support students through our scholarship fund\, which helps make Anoka-Ramsey Community College more affordable and accessible to all area residents who wish to pursue a college education.\n\n \n\nOur Foundation awards more than 130 student scholarships each year.  These scholarships would not be possible without the support of our donors like you.  Tickets are $50 per person.  Contact Lindsey Schiller at 763-433-1352 or register online at www.AnokaRamsey.edu/Donate
X-ALT-DESC;FMTTYPE=text/html:<span style="font-family:tw cen mt\,sans-serif">Join us and learn more about the reasons why Anoka-Ramsey Community College is named one of the Top 10 Community Colleges in the U.S.&nbsp\; This fun evening is a great opportunity to recognize your business or organization and give back to the students of Anoka-Ramsey Community College.&nbsp\; Your support helps our students thrive so they can continue to pursue their dreams and become our future leaders.</span><br />\n&nbsp\;<br />\n<span style="font-family:tw cen mt\,sans-serif">Help us celebrate this special recognition on <strong>Thursday\, March 2\, 2017 at Bunker Hills Event Center.</strong>&nbsp\; Join us for social hour at 6pm\, followed by a plated dinner\, live music by our Music Faculty Jazz Ensemble and some outstanding speakers.</span><br />\n&nbsp\;<br />\n<span style="font-family:tw cen mt\,sans-serif">The majority of our students apply for scholarships due to their financial stress while balancing their higher education\, family and work.&nbsp\; Your donation will go directly to support students through our scholarship fund\, which helps make Anoka-Ramsey Community College more affordable and accessible to all area residents who wish to pursue a college education.</span><br />\n&nbsp\;<br />\n<span style="font-family:tw cen mt\,sans-serif">Our Foundation awards more than 130 student scholarships each year.&nbsp\; These scholarships would not be possible without the support of our donors like you.&nbsp\; Tickets are $50 per person.&nbsp\; Contact Lindsey Schiller at 763-433-1352 or register online at </span><a href="http://www.AnokaRamsey.edu/Donate"><span style="font-family:tw cen mt\,sans-serif">www.AnokaRamsey.edu/Donate</span></a><br />\n&nbsp\;
LOCATION:Bunker Hills Event Center 12800 Bunker Prairie Road Coon Rapids\, MN 55448
UID:e.380.171486
SEQUENCE:3
DTSTAMP:20260421T184957Z
URL:http://members.metronorthchamber.org/events/details/anoka-ramsey-celebration-top-10-community-college-in-u-s-171486
END:VEVENT

END:VCALENDAR
