BEGIN:VCALENDAR
VERSION:2.0
PRODID:-//ChamberMaster//Event Calendar 2.0//EN
METHOD:PUBLISH
X-PUBLISHED-TTL:P3D
REFRESH-INTERVAL:P3D
CALSCALE:GREGORIAN
BEGIN:VEVENT
DTSTART:20120725T163000Z
DTEND:20120725T180000Z
X-MICROSOFT-CDO-ALLDAYEVENT:FALSE
SUMMARY:Anoka County Economic Development Summit
DESCRIPTION:Please join us for an Economic Development Summit hosted by Anoka County United.  Anoka County United is an Anoka County business group whose purpose is to facilitate commercial and industrial growth and development within Anoka County.\n\n	\n\n	This Summit will feature representatives from Greater MSP and the MN Chamber of Commerce. They will be discussing economic development efforts within the Twin Cities region\, and specifically those impacting Anoka County.  We welcome your participation in the discussion as to how to spur economic development within the region and Anoka County.\n\n	\n\n	Harvest Grill at Bunker Hills Golf Course\n\n	12800 Bunker Prairie Road\, Coon Rapids\n\n	\n\n	Registration/Networking 11:30am\n\n	Lunch/Program 12pm\n\n	\n\n	Please RSVP to the Metro North Chamber of Commerce by Friday\, July 20th by e-mailing the Chamber at info@metronorthchamber.org or calling the Chamber office at 763-783-3553.\n\n	\n\n	You are encouraged to share this invitation with others who may be interested in economic development efforts within Anoka County and the Twin Cities region---They will also be welcomed at this event.\n\n	\n\n	SUPPORT FOR THIS EVENT BY:\n\n	Connexus Energy\n\n	Northeast Bank
X-ALT-DESC;FMTTYPE=text/html:<div style="color: gray">\n	<span style="color: rgb(0\,0\,128)"><span style="font-size: 11px"><span style="font-family: tahoma">&nbsp\;<br />\n	Please join us for an Economic Development Summit hosted by Anoka County United.&nbsp\; Anoka County United is an Anoka County business group whose purpose is to facilitate commercial and industrial growth and development within Anoka County.</span></span></span><br />\n	<br />\n	<span style="color: rgb(0\,0\,128)"><span style="font-size: 11px"><span style="font-family: tahoma">This Summit will feature representatives from Greater MSP and the MN Chamber of Commerce. They will be discussing economic development efforts&nbsp\;within the Twin Cities region\, and specifically those&nbsp\;impacting Anoka County.&nbsp\; We welcome your participation in the discussion as to how to spur economic development within&nbsp\;the region and Anoka County.</span></span></span><br />\n	<br />\n	<span style="color: rgb(0\,0\,128)"><span style="font-size: 11px"><span style="font-family: tahoma">Harvest Grill at Bunker Hills Golf Course</span></span></span><br />\n	<span style="color: #000080"><span style="font-size: 11px"><span style="font-family: tahoma">12800 Bunker Prairie Road\, Coon Rapids</span></span></span><br />\n	<br />\n	<span style="color: rgb(0\,0\,128)"><span style="font-size: 11px"><span style="font-family: tahoma">Registration/Networking 11:30am<br />\n	Lunch/Program 12pm</span></span></span><br />\n	<br />\n	<span style="color: rgb(0\,0\,128)"><span style="font-size: 11px"><span style="font-family: tahoma">Please RSVP to the Metro North Chamber of Commerce by Friday\, July 20th by e-mailing the Chamber at <a href="mailto:info@metronorthchamber.org">info@metronorthchamber.org</a> or calling the Chamber office at 763-783-3553.<br />\n	<br />\n	You are encouraged to share this invitation with others who may be interested in economic development efforts within Anoka County and the Twin Cities region---They will also be welcomed at this event.<br />\n	<br />\n	SUPPORT FOR THIS EVENT BY:<br />\n	Connexus Energy<br />\n	Northeast Bank</span></span></span></div>\n
LOCATION:Harvest Grill at Bunker Hills Golf Course\, Coon Rapids (Please take Foley Blvd. to the Golf Course - Main Street is closed due to road construction).
UID:e.380.145540
SEQUENCE:3
DTSTAMP:20260425T142810Z
URL:http://members.metronorthchamber.org/events/details/anoka-county-economic-development-summit-07-25-2012-145540
END:VEVENT

END:VCALENDAR
