BEGIN:VCALENDAR
VERSION:2.0
PRODID:-//ChamberMaster//Event Calendar 2.0//EN
METHOD:PUBLISH
X-PUBLISHED-TTL:P3D
REFRESH-INTERVAL:P3D
CALSCALE:GREGORIAN
BEGIN:VEVENT
DTSTART:20120412T163000Z
DTEND:20120412T180000Z
X-MICROSOFT-CDO-ALLDAYEVENT:FALSE
SUMMARY:Anoka County Commute Solutions Annual Transportation Summit
DESCRIPTION:The Anoka County Commute Solutions Annual Transportation Summit has been scheduled for Thursday\, April 12 at the Anoka County Sheriff Facility.  Registration begins at 11:30 AM\, with the program beginning promptly at noon.  Speakers / topics include Kate Johansen\, MN Chamber - how transportation and transportation policy impact your business\, Anoka County transportation update -Northstar Commuter Rail & road construction updates\, along with a Commute Solutions update - new look & tools\, transportation options/programs\, and  Commuter Challenge promotion.\n\n\n\nNo cost to attend. Boxed lunch will be provided.
X-ALT-DESC;FMTTYPE=text/html:<br />\n<span style="color:#000080\;"><span style="font-size: 10px\;"><span style="font-family: tahoma\;">The <strong>Anoka County Commute Solutions Annual Transportation Summit</strong> has been scheduled for <strong>Thursday\, April 12 at the Anoka County Sheriff Facility</strong>.&nbsp\; Registration begins at 11:30 AM\, with the program beginning promptly at noon.&nbsp\; Speakers / topics include <strong>Kate Johansen\, MN Chamber - how transportation and transportation policy impact your business</strong>\, Anoka County transportation update -Northstar Commuter Rail &amp\; road construction updates\, along with a Commute Solutions update - new look &amp\; tools\, transportation options/programs\, and &nbsp\;Commuter Challenge promotion.<br />\n<br />\nNo cost to attend. Boxed lunch will be provided.</span></span></span>
LOCATION:Anoka County Sheriff Office - 13301 Hanson Blvd\, Andover 55304
UID:e.380.143494
SEQUENCE:3
DTSTAMP:20260425T192233Z
URL:http://members.metronorthchamber.org/events/details/anoka-county-commute-solutions-annual-transportation-summit-04-12-2012-143494
END:VEVENT

END:VCALENDAR
