BEGIN:VCALENDAR
VERSION:2.0
PRODID:-//ChamberMaster//Event Calendar 2.0//EN
METHOD:PUBLISH
X-PUBLISHED-TTL:P3D
REFRESH-INTERVAL:P3D
CALSCALE:GREGORIAN
BEGIN:VEVENT
DTSTART:20120823T130000Z
DTEND:20120824T023000Z
X-MICROSOFT-CDO-ALLDAYEVENT:FALSE
SUMMARY:Anoka County Commissioner Candidate Forum hosted by PAC
DESCRIPTION:The MetroNorth Chamber Leadership Fund (PAC) is pleased to announce its Anoka County Commissioner Candidate Forum on August 23\, 8-9:30 am\, at Rasmussen College   Blaine. Six of the seven county commissioners are up for election this fall. This Forum will allow you to see where the incumbents and their challengers stand on important issues facing our area businesses.\n	\n		 \n	\n		To attend\, register through the MetroNorth Chamber of Commerce (www.metronorthchamber.org or Teresa@metronorthchamber.org). Cost is $10 per person and includes light refreshments.
X-ALT-DESC;FMTTYPE=text/html:<div style="color: gray">\n	<div>\n		<span style="color: #000080"><span style="font-size: 11px"><span style="font-family: tahoma">The MetroNorth Chamber Leadership Fund (PAC) is pleased to announce its Anoka County Commissioner Candidate Forum on August 23\, 8-9:30 am\, at Rasmussen College &ndash\; Blaine. Six of the seven county commissioners are up for election this fall. This Forum will allow you to see where the incumbents and their challengers stand on important issues facing our area businesses.</span></span></span></div>\n	<div>\n		&nbsp\;</div>\n	<div>\n		<span style="color: #000080"><span style="font-size: 11px"><span style="font-family: tahoma">To attend\, register through the MetroNorth Chamber of Commerce (</span></span></span><span style="font-size: 11px"><span style="font-family: tahoma"><span style="font-size: 11px"><span style="font-family: tahoma"><span style="font-size: 11px"><span style="font-family: tahoma"><span style="font-size: 11px"><span style="font-family: tahoma"><a href="http://www.metronorthchamber.org/" target="_blank" title="http://www.metronorthchamber.org/"><span style="color: #000080">www.metronorthchamber.org</span></a></span></span></span></span></span></span><span style="color: #000080"> or </span><a href="mailto:Teresa@metronorthchamber.org" title="mailto:Teresa@metronorthchamber.org"><span style="color: #000080">Teresa@metronorthchamber.org</span></a></span></span><span style="color: #000080"><span style="font-size: 11px"><span style="font-family: tahoma">). Cost is $10 per person and includes light refreshments.</span></span></span></div>\n</div>\n
LOCATION:Rasmussen College 3629 95th Ave. NE Blaine\, MN 55014
UID:e.380.146183
SEQUENCE:3
DTSTAMP:20260425T125139Z
URL:http://members.metronorthchamber.org/events/details/anoka-county-commissioner-candidate-forum-hosted-by-pac-08-23-2012-146183
END:VEVENT

END:VCALENDAR
