BEGIN:VCALENDAR
VERSION:2.0
PRODID:-//ChamberMaster//Event Calendar 2.0//EN
METHOD:PUBLISH
X-PUBLISHED-TTL:P3D
REFRESH-INTERVAL:P3D
CALSCALE:GREGORIAN
BEGIN:VEVENT
DTSTART:20181001T170000Z
DTEND:20181001T180000Z
X-MICROSOFT-CDO-ALLDAYEVENT:FALSE
SUMMARY:Anoka Co. Commissioner Candidate #4 Forum
DESCRIPTION:As you may know\, there is an open County Commissioner seat on the ballot this year\, with incumbent Jim Kordiak retiring. Both Mandy Meisner and Sean Broom are vying for this opportunity. District 4 covers portions of Spring Lake Park\, Fridley\, and Columbia Heights. Regardless if you live or work in these cities\, a County Commissioner votes on issues that affect this entire County   from taxes to transportation. So please join us for this forum\, at which several business-related questions will be asked\, along with time for audience Q&A.
X-ALT-DESC;FMTTYPE=text/html:<span style="background:white\;"><span style="font-family:arial\,sans-serif\;"><span style="font-size:10.0pt\;">As you may know\, there is an open County Commissioner seat on the ballot this year\, with incumbent Jim Kordiak retiring. Both Mandy Meisner and Sean Broom are vying for this opportunity. District 4 covers portions of Spring Lake Park\, Fridley\, and Columbia Heights. Regardless if you live or work in these cities\, a County Commissioner votes on issues that affect this entire County &ndash\; from taxes to transportation. So please join us for this forum\, at which several business-related questions will be asked\, along with time for audience Q&amp\;A.&nbsp\;</span></span></span><br />\n&nbsp\;
LOCATION:Spring Lake Park City Hall Council Chambers 1301 81st Avenue NE
UID:e.380.187104
SEQUENCE:3
DTSTAMP:20260420T140303Z
URL:http://members.metronorthchamber.org/events/details/anoka-co-commissioner-candidate-4-forum-187104
END:VEVENT

END:VCALENDAR
