BEGIN:VCALENDAR
VERSION:2.0
PRODID:-//ChamberMaster//Event Calendar 2.0//EN
METHOD:PUBLISH
X-PUBLISHED-TTL:P3D
REFRESH-INTERVAL:P3D
CALSCALE:GREGORIAN
BEGIN:VEVENT
DTSTART:20191205T143000Z
DTEND:20191205T213000Z
X-MICROSOFT-CDO-ALLDAYEVENT:FALSE
SUMMARY:Annual Planning Day
DESCRIPTION:Now is your chance to take a solid step forward  -  Are you ready? \n\n	Ready to stop just setting annual goals in your business and actually make some real progress\n	Ready to really give your team what they need to be the rockstars you knew they were when you hired them\n	Ready to give your leadership team the direction and the leadership they need to be successful \n	Ready to find more time in the day for what really matters\n	Ready to take advantage of the opportunities coming your way\n	Ready to have an action plan for what to do each day\, each week\, each month to make real progress toward your dream business\n\n\nPerformance Partners Community is holding our 8th Annual Planning Day on December 5  for all business owners committed to the success of their team and their business. .\n\nTogether\, we will nail down what it is you want 2020 to look like in your business and create the step-by-step plan to get you there.\n\nThis isn't a come and listen to me talk all day\, this is a roll-up your sleeves and do what you have been putting off   planning for your success.
X-ALT-DESC;FMTTYPE=text/html:&nbsp\;<strong>Now is your chance to take a solid step forward&nbsp\; -&nbsp\;&nbsp\;</strong><strong>Are you ready?&nbsp\;</strong>\n<ul>\n	<li>Ready to stop just setting annual goals in your business and actually make some real progress</li>\n	<li>Ready to really give your team what they need to be the rockstars you knew they were when you hired them</li>\n	<li>Ready to give your leadership team the direction and the leadership they need to be successful&nbsp\;</li>\n	<li>Ready to find more time in the day for what really matters</li>\n	<li>Ready to take advantage of the opportunities coming your way</li>\n	<li>Ready to have an action plan for what to do each day\, each week\, each month to make real progress toward your dream business</li>\n</ul>\n\n<p><strong>Performance Partners Community is holding our </strong><strong>8th Annual Planning Day on December 5&nbsp\; for all business owners committed to the success of their team and their business.&nbsp\;</strong>.</p>\n\n<p>Together\, we will nail down what it is you want 2020 to look like in your business and create the step-by-step plan to get you there.</p>\n\n<p>This isn&rsquo\;t a come and listen to me talk all day\,<strong> this is a roll-up your sleeves and do what you have been putting off</strong> &ndash\; planning for your success.</p>\n
LOCATION:Performance Partners 12 Bridge Square #202 A Anoka\, MN 55303
UID:e.380.191704
SEQUENCE:3
DTSTAMP:20260419T160955Z
URL:http://members.metronorthchamber.org/events/details/annual-planning-day-191704
END:VEVENT

END:VCALENDAR
