BEGIN:VCALENDAR
VERSION:2.0
PRODID:-//ChamberMaster//Event Calendar 2.0//EN
METHOD:PUBLISH
X-PUBLISHED-TTL:P3D
REFRESH-INTERVAL:P3D
CALSCALE:GREGORIAN
BEGIN:VEVENT
DTSTART:20111208T220000Z
DTEND:20111208T233000Z
X-MICROSOFT-CDO-ALLDAYEVENT:FALSE
SUMMARY:Annual Meeting featuring Bill George
DESCRIPTION:Former Medtronic CEO Bill George will be the keynote speaker at the MetroNorth Chamber's Annual Meeting on Thursday\, Dec. 8th at 4 pm at the TPC in Blaine.\n\n	 \n\n	Mr. George is known for being an outstanding businessman\, best-selling author\, Harvard Business School professor\, and leadership guru. He will sign copies of his latest book\, True North Groups\, after the event. \n\n	 \n\n	Seating is limited so reserve your spot today! Only $20 member/$35 not-yet member.\n\n	Please note: \n\n	Cancellations must be received 48 hours prior to the event for a refund. All no-shows will be billed. Substitutes are accepted.\n\n	  \n\n	\n\n	  Please note: Cancellations must be received 48 hours prior to the event for a refund. All no-shows will be billed. Substitutes are accepted.
X-ALT-DESC;FMTTYPE=text/html:<p style="margin-top: 0px\; font-family: arial\, helvetica\, sans-serif\; margin-bottom: 0px">\n	<span>Former Medtronic CEO Bill George will be the keynote speaker at the MetroNorth Chamber&#39\;s Annual Meeting on Thursday\, Dec. 8th at 4 pm at the TPC in Blaine.</span></p>\n<p style="margin-top: 0px\; font-family: arial\, helvetica\, sans-serif\; margin-bottom: 0px">\n	<span>&nbsp\;</span></p>\n<p style="margin-top: 0px\; font-family: arial\, helvetica\, sans-serif\; margin-bottom: 0px">\n	<span>Mr. George is known for being an outstanding businessman\, best-selling author\, Harvard Business School professor\, and leadership guru.&nbsp\;He will sign copies of his latest book\, <em>True North Groups</em>\, after the event. </span></p>\n<p style="margin-top: 0px\; font-family: arial\, helvetica\, sans-serif\; margin-bottom: 0px">\n	<span>&nbsp\;</span></p>\n<p style="margin-top: 0px\; font-family: arial\, helvetica\, sans-serif\; margin-bottom: 0px">\n	<span>Seating is limited so reserve your spot today! Only $20 member/$35 not-yet member.<br />\n	<span _fck_bookmark="1" style="display: none"><em>Please note: </em></span></span></p>\n<div>\n	<span><span _fck_bookmark="1" style="display: none"><span style="font-size: 14px"><span style="font-family: arial"><em>Cancellations must be received 48 hours prior to the event for a refund. All no-shows will be billed. Substitutes are accepted.</em></span></span></span></span></div>\n<p style="margin-top: 0px\; font-family: arial\, helvetica\, sans-serif\; margin-bottom: 0px">\n	<span><span _fck_bookmark="1" style="display: none"><span>&#65279\;</span>&#65279\;<br />\n	<br />\n	<span _fck_bookmark="1" style="display: none">&nbsp\;</span>&nbsp\;</span></span><strong><span style="font-size: 14px"><em>Please note: </em></span><span style="font-size: 14px"><span style="font-family: arial"><em>Cancellations must be received 48 hours prior to the event for a refund. All no-shows will be billed. Substitutes are accepted.</em></span></span></strong></p>\n<p style="margin-top: 0px\; font-family: arial\, helvetica\, sans-serif\; margin-bottom: 0px">\n	<br />\n	<br />\n	&nbsp\;</p>\n
LOCATION:TPC 11444 Tournament Players Parkway Blaine\, MN 55449
UID:e.380.142849
SEQUENCE:3
DTSTAMP:20260426T033050Z
URL:http://members.metronorthchamber.org/events/details/annual-meeting-featuring-bill-george-12-08-2011-142849
END:VEVENT

END:VCALENDAR
