BEGIN:VCALENDAR
VERSION:2.0
PRODID:-//ChamberMaster//Event Calendar 2.0//EN
METHOD:PUBLISH
X-PUBLISHED-TTL:P3D
REFRESH-INTERVAL:P3D
CALSCALE:GREGORIAN
BEGIN:VEVENT
DTSTART:20150520T170000Z
DTEND:20150520T233000Z
X-MICROSOFT-CDO-ALLDAYEVENT:FALSE
SUMMARY:Annual Golf Tournament
DESCRIPTION:27th Annual Golf tournament at the Refuge Golf Club\, Oak Grove\, MN
X-ALT-DESC;FMTTYPE=text/html:27th Annual Golf tournament at the Refuge Golf Club\, Oak Grove\, MN
LOCATION:Refuge Golf Club\, 21250 Yellow Pine Street NW Oak Grove\, MN 55011
UID:e.380.152542
SEQUENCE:3
DTSTAMP:20260423T083728Z
URL:http://members.metronorthchamber.org/events/details/annual-golf-tournament-05-20-2015-152542
END:VEVENT

END:VCALENDAR
