BEGIN:VCALENDAR
VERSION:2.0
PRODID:-//ChamberMaster//Event Calendar 2.0//EN
METHOD:PUBLISH
X-PUBLISHED-TTL:P3D
REFRESH-INTERVAL:P3D
CALSCALE:GREGORIAN
BEGIN:VEVENT
DTSTART:20190606T140000Z
DTEND:20190609T220000Z
X-MICROSOFT-CDO-ALLDAYEVENT:FALSE
SUMMARY:Annual Garage Sale
DESCRIPTION:We have EVERYTHING: clothes\, toys\, sports stuff\, camping stuff\, furniture\, antiques\, household\, baby things\, etc!
X-ALT-DESC;FMTTYPE=text/html:We have EVERYTHING: clothes\, toys\, sports stuff\, camping stuff\, furniture\, antiques\, household\, baby things\, etc!
LOCATION:Life Prep Academy 1628 County Highway 10 Spring Lake Park 55432
UID:e.380.189484
SEQUENCE:3
DTSTAMP:20260420T022816Z
URL:http://members.metronorthchamber.org/events/details/annual-garage-sale-189484
END:VEVENT

END:VCALENDAR
