BEGIN:VCALENDAR
VERSION:2.0
PRODID:-//ChamberMaster//Event Calendar 2.0//EN
METHOD:PUBLISH
X-PUBLISHED-TTL:P3D
REFRESH-INTERVAL:P3D
CALSCALE:GREGORIAN
BEGIN:VEVENT
DTSTART:20170330T233000Z
DTEND:20170331T010000Z
X-MICROSOFT-CDO-ALLDAYEVENT:FALSE
SUMMARY:Annual Dinner and Silent Auction
DESCRIPTION:Please join us for our 4th annual dinner and silent auction.  Dine\, mingle\, and bid on auction items from 6:30 to 7:30.  Then hear about what's happening at Life Prep Academy.
X-ALT-DESC;FMTTYPE=text/html:Please join us for our 4th annual dinner and silent auction.&nbsp\; Dine\, mingle\, and bid on auction items from 6:30 to 7:30.&nbsp\; Then hear about what&#39\;s happening at Life Prep Academy.
LOCATION:Moe's restaurant in Mounds View.
UID:e.380.171968
SEQUENCE:3
DTSTAMP:20260421T184440Z
URL:http://members.metronorthchamber.org/events/details/annual-dinner-and-silent-auction-171968
END:VEVENT

END:VCALENDAR
