BEGIN:VCALENDAR
VERSION:2.0
PRODID:-//ChamberMaster//Event Calendar 2.0//EN
METHOD:PUBLISH
X-PUBLISHED-TTL:P3D
REFRESH-INTERVAL:P3D
CALSCALE:GREGORIAN
BEGIN:VEVENT
DTSTART:20190328T233000Z
DTEND:20190329T010000Z
X-MICROSOFT-CDO-ALLDAYEVENT:FALSE
SUMMARY:Annual Dinner and Silent Auction
DESCRIPTION:Come mingle\, dine\, and bid on items from 6:30-7:30.  Then learn about all the great things happening at Life Prep Academy!\n\nRSVP helpful\, but not necessary
X-ALT-DESC;FMTTYPE=text/html:Come mingle\, dine\, and bid on items from 6:30-7:30.&nbsp\; Then learn about all the great things happening at Life Prep Academy!<br />\nRSVP helpful\, but not necessary
LOCATION:Moe's Restaurant in Mounds View
UID:e.380.188505
SEQUENCE:3
DTSTAMP:20260420T060205Z
URL:http://members.metronorthchamber.org/events/details/annual-dinner-and-silent-auction-03-28-2019-188505
END:VEVENT

END:VCALENDAR
