BEGIN:VCALENDAR
VERSION:2.0
PRODID:-//ChamberMaster//Event Calendar 2.0//EN
METHOD:PUBLISH
X-PUBLISHED-TTL:P3D
REFRESH-INTERVAL:P3D
CALSCALE:GREGORIAN
BEGIN:VEVENT
DTSTART:20180713T220000Z
DTEND:20180714T040000Z
X-MICROSOFT-CDO-ALLDAYEVENT:FALSE
SUMMARY:Andover FamilyFun Fest
DESCRIPTION:Annual festival celebrated in the community and for the community. Self-funded and run by a group of great volunteers. Held the weekend following the 4th of July\; 2018 dates are July 13&14th. Hours are approximately 5-11pm Friday evening and 9am-9pm Saturday. See posted schedule for hours for each individual event. For more information\, visit www.andovermn.gov and click on Andover Family Fun Fest
X-ALT-DESC;FMTTYPE=text/html:<span style="color: rgb(29\, 33\, 41)\; font-family: Georgia\, serif\; font-size: 17px\; white-space: pre-wrap\; background-color: rgb(255\, 255\, 255)\;">Annual festival celebrated in the community and for the community. Self-funded and run by a group of great volunteers. Held the weekend following the 4th of July\; 2018 dates are July 13&amp\;14th. Hours are approximately 5-11pm Friday evening and 9am-9pm Saturday. See posted schedule for hours for each individual event. For more information\, visit </span><a data-lynx-mode="asynclazy" data-lynx-uri="https://l.facebook.com/l.php?u=http%3A%2F%2Fwww.andovermn.gov%2F&amp\;h=ATPehJyru3qzf2Jxkk3ixKY2rrmlKie9cKIcvKdfnld0FaH0Mn6Ize98fH35YyJ0ZVq4rHDOck8G2C7m01jFCQ9URjKhnx46m1makHO1PFRYRHB0CZo" href="http://www.andovermn.gov/" rel="noopener nofollow" style="color: rgb(54\, 88\, 153)\; cursor: pointer\; text-decoration-line: none\; font-family: Georgia\, serif\; font-size: 17px\; white-space: pre-wrap\; background-color: rgb(255\, 255\, 255)\;" target="_blank">www.andovermn.gov</a><span style="color: rgb(29\, 33\, 41)\; font-family: Georgia\, serif\; font-size: 17px\; white-space: pre-wrap\; background-color: rgb(255\, 255\, 255)\;"> and click on Andover Family Fun Fest</span>
LOCATION:
UID:e.380.184878
SEQUENCE:3
DTSTAMP:20260420T182811Z
URL:http://members.metronorthchamber.org/events/details/andover-familyfun-fest-184878
END:VEVENT

END:VCALENDAR
