BEGIN:VCALENDAR
VERSION:2.0
PRODID:-//ChamberMaster//Event Calendar 2.0//EN
METHOD:PUBLISH
X-PUBLISHED-TTL:P3D
REFRESH-INTERVAL:P3D
CALSCALE:GREGORIAN
BEGIN:VEVENT
DTSTART:20180814T233000Z
DTEND:20180815T010000Z
X-MICROSOFT-CDO-ALLDAYEVENT:FALSE
SUMMARY:An Evening Of Problem-Solving\, with Little Acorn Shave Co.
DESCRIPTION:At this family-friendly event\, Tracy David\, CEO of Little Acorn Shave Co. will discuss how problem-solving & entrepreneurship go hand-in-hand. \n\nFounder & CEO of her fifth company\, David is known for her courage and tenacity\, and rising above adversity. She founded her newest company\, Little Acorn Shave Co.\, committed to inspiring positive change. \n\nShe has become a force in the beauty industry for women\, and has been chosen as a semi-finalist in the Minnesota Cup\, the largest start-up competition in the U.S.\n\nAt this event\, children will have the opportunity to learn and practice entrepreneur-type problem-solving skills.\n\nPlease RSVP to Garth Andersen at Mathnasium of Blaine: (763) 317-6284\, or blaine@mathnasium.com.
X-ALT-DESC;FMTTYPE=text/html:<span style="color: rgb(29\, 33\, 41)\; font-family: Helvetica\, Arial\, sans-serif\; font-size: 14px\; background-color: rgb(255\, 255\, 255)\;">At this family-friendly event\, Tracy David\, CEO of Little Acorn Shave Co. will discuss how problem-solving &amp\; entrepreneurship go hand-in-hand.&nbsp\;</span><br style="color: rgb(29\, 33\, 41)\; font-family: Helvetica\, Arial\, sans-serif\; font-size: 14px\; background-color: rgb(255\, 255\, 255)\;" />\n<span style="color: rgb(29\, 33\, 41)\; font-family: Helvetica\, Arial\, sans-serif\; font-size: 14px\; background-color: rgb(255\, 255\, 255)\;">Founder &amp\; CEO of her fifth company\, David is known for her courage and tenacity\, and rising above adversity. She founded her newest company\, Little Acorn Shave Co.\, committed to inspiring positive change.&nbsp\;</span><br style="color: rgb(29\, 33\, 41)\; font-family: Helvetica\, Arial\, sans-serif\; font-size: 14px\; background-color: rgb(255\, 255\, 255)\;" />\n<span style="color: rgb(29\, 33\, 41)\; font-family: Helvetica\, Arial\, sans-serif\; font-size: 14px\; background-color: rgb(255\, 255\, 255)\;">She has become a force in the beauty industry for women\, and has been chosen as a semi-finalist in the Minnesota Cup\, the largest start-up competition in the U.S.</span><br style="color: rgb(29\, 33\, 41)\; font-family: Helvetica\, Arial\, sans-serif\; font-size: 14px\; background-color: rgb(255\, 255\, 255)\;" />\n<span style="color: rgb(29\, 33\, 41)\; font-family: Helvetica\, Arial\, sans-serif\; font-size: 14px\; background-color: rgb(255\, 255\, 255)\;">At this event\, children will have the opportunity to learn and practice entrepreneur-type problem-solving skills.</span><br style="color: rgb(29\, 33\, 41)\; font-family: Helvetica\, Arial\, sans-serif\; font-size: 14px\; background-color: rgb(255\, 255\, 255)\;" />\n<span style="color: rgb(29\, 33\, 41)\; font-family: Helvetica\, Arial\, sans-serif\; font-size: 14px\; background-color: rgb(255\, 255\, 255)\;">Please RSVP to Garth Andersen at Mathnasium of Blaine: (763) 317-6284\, or blaine@mathnasium.com.</span>
LOCATION:
UID:e.380.186842
SEQUENCE:3
DTSTAMP:20260420T165958Z
URL:http://members.metronorthchamber.org/events/details/an-evening-of-problem-solving-with-little-acorn-shave-co-186842
END:VEVENT

END:VCALENDAR
