BEGIN:VCALENDAR
VERSION:2.0
PRODID:-//ChamberMaster//Event Calendar 2.0//EN
METHOD:PUBLISH
X-PUBLISHED-TTL:P3D
REFRESH-INTERVAL:P3D
CALSCALE:GREGORIAN
BEGIN:VEVENT
DTSTART:20140730T214500Z
DTEND:20140731T000000Z
X-MICROSOFT-CDO-ALLDAYEVENT:FALSE
SUMMARY:An Acapulco Fiesta!
DESCRIPTION:Enjoy different stations featuring a variety of food & beverages unique to Acapulco restaurants. This will be more informal than our past Acapulco wine events\, but just as fun\, as we are 'catered to' by Sam Leon & his amazing Acapulco team who will wine & dine us while showcasing current & new menu items. And\, just like years' past\, you won't leave hungry or thirsty!\n\n \n\nIf you've never been to Key Air\, it's a beautiful building at the Anoka County Airport. Network with others while watching planes come and go. You may even be fortunate enough to see certain famous golfers arrive for the 3M PGA Seniors Tournament   what a sighting that would be!
X-ALT-DESC;FMTTYPE=text/html:<br />\nEnjoy different stations featuring a variety of food &amp\; beverages unique to Acapulco restaurants. This will be more informal than our past Acapulco wine events\, but just as fun\, as we are &lsquo\;catered to&rsquo\; by Sam Leon &amp\; his amazing Acapulco team who will wine &amp\; dine us while showcasing current &amp\; new menu items. And\, just like years&rsquo\; past\, you won&rsquo\;t leave hungry or thirsty!<br />\n&nbsp\;<br />\nIf you&rsquo\;ve never been to Key Air\, it&rsquo\;s a beautiful building at the Anoka County Airport. Network with others while watching planes come and go. You may even be fortunate enough to see certain famous golfers arrive for the 3M PGA Seniors Tournament &ndash\; what a sighting that would be! &nbsp\;<br />\n&nbsp\;
LOCATION:Key Air Twin Cities - Blaine 9877 North Airport Road NE Blaine\, MN 55449
UID:e.380.151407
SEQUENCE:3
DTSTAMP:20260423T234911Z
URL:http://members.metronorthchamber.org/events/details/an-acapulco-fiesta-07-30-2014-151407
END:VEVENT

END:VCALENDAR
